BEGIN:VCALENDAR
VERSION:2.0
PRODID:-//Islamische Gemeinde Giessen e.V. - ECPv6.15.20//NONSGML v1.0//EN
CALSCALE:GREGORIAN
METHOD:PUBLISH
X-WR-CALNAME:Islamische Gemeinde Giessen e.V.
X-ORIGINAL-URL:https://igg-online.de
X-WR-CALDESC:Veranstaltungen für Islamische Gemeinde Giessen e.V.
REFRESH-INTERVAL;VALUE=DURATION:PT1H
X-Robots-Tag:noindex
X-PUBLISHED-TTL:PT1H
BEGIN:VTIMEZONE
TZID:Europe/Berlin
BEGIN:DAYLIGHT
TZOFFSETFROM:+0100
TZOFFSETTO:+0200
TZNAME:CEST
DTSTART:20270328T010000
END:DAYLIGHT
BEGIN:STANDARD
TZOFFSETFROM:+0200
TZOFFSETTO:+0100
TZNAME:CET
DTSTART:20271031T010000
END:STANDARD
BEGIN:DAYLIGHT
TZOFFSETFROM:+0100
TZOFFSETTO:+0200
TZNAME:CEST
DTSTART:20280326T010000
END:DAYLIGHT
BEGIN:STANDARD
TZOFFSETFROM:+0200
TZOFFSETTO:+0100
TZNAME:CET
DTSTART:20281029T010000
END:STANDARD
BEGIN:DAYLIGHT
TZOFFSETFROM:+0100
TZOFFSETTO:+0200
TZNAME:CEST
DTSTART:20290325T010000
END:DAYLIGHT
BEGIN:STANDARD
TZOFFSETFROM:+0200
TZOFFSETTO:+0100
TZNAME:CET
DTSTART:20291028T010000
END:STANDARD
END:VTIMEZONE
BEGIN:VEVENT
DTSTART;TZID=Europe/Berlin:20280720T200000
DTEND;TZID=Europe/Berlin:20280720T210000
DTSTAMP:20260425T135820
CREATED:20250912T090411Z
LAST-MODIFIED:20250912T140455Z
UID:10000149-1847736000-1847739600@igg-online.de
SUMMARY:Wöchentliche Rezitation des Heiligen Koran
DESCRIPTION:Die Veranstaltung findet online (über Zoom) statt und wird von den Brüdern R.S. & M.S. geleitet.
URL:https://igg-online.de/veranstaltung/woechentliche-rezitation-des-heiligen-koran/2028-07-20/
LOCATION:
END:VEVENT
BEGIN:VEVENT
DTSTART;TZID=Europe/Berlin:20280718T170000
DTEND;TZID=Europe/Berlin:20280718T190000
DTSTAMP:20260425T135820
CREATED:20250912T142400Z
LAST-MODIFIED:20250912T142400Z
UID:10001454-1847552400-1847559600@igg-online.de
SUMMARY:Mädchentreff
DESCRIPTION:Die Veranstaltung wird von den Schwestern J.A. & Ha. geleitet.
URL:https://igg-online.de/veranstaltung/maedchentreff/2028-07-18/
LOCATION:Islamische Gemeinde Giessen e.V.\, Udersbergstraße 92 - 94\, Gießen\, 35394
END:VEVENT
BEGIN:VEVENT
DTSTART;TZID=Europe/Berlin:20280717T180000
DTEND;TZID=Europe/Berlin:20280717T193000
DTSTAMP:20260425T135820
CREATED:20250912T143331Z
LAST-MODIFIED:20250912T143331Z
UID:10001715-1847469600-1847475000@igg-online.de
SUMMARY:Koran-Sitzung (Männer)
DESCRIPTION:Die Koran-Sitzung findet eine Stunde vor dem Maghrib-Gebet statt.\nDie  Sitzung wird vom Cheikh Hammad geleitet.
URL:https://igg-online.de/veranstaltung/koran-sitzung-maenner/2028-07-17/
LOCATION:IGG Haus 94\, Udersbergstraße 94\, Gießen\, Hessen\, 35394\, Germany
END:VEVENT
BEGIN:VEVENT
DTSTART;TZID=Europe/Berlin:20280716T173000
DTEND;TZID=Europe/Berlin:20280716T193000
DTSTAMP:20260425T135820
CREATED:20251103T132850Z
LAST-MODIFIED:20251103T132850Z
UID:10002061-1847381400-1847388600@igg-online.de
SUMMARY:Nasheed Chor für Frauen
DESCRIPTION:
URL:https://igg-online.de/veranstaltung/nasheed-chor-fuer-frauen/2028-07-16/
LOCATION:IGG Haus 92\, Udersbergstraße 92\, Gießen\, 35394
ATTACH;FMTTYPE=image/jpeg:https://igg-online.de/wp-content/uploads/2025/11/nascheed-Chor.jpeg
END:VEVENT
BEGIN:VEVENT
DTSTART;TZID=Europe/Berlin:20280716T160000
DTEND;TZID=Europe/Berlin:20280716T170000
DTSTAMP:20260425T135820
CREATED:20251103T133339Z
LAST-MODIFIED:20251103T133339Z
UID:10002262-1847376000-1847379600@igg-online.de
SUMMARY:Arabische Kalligrafie
DESCRIPTION:
URL:https://igg-online.de/veranstaltung/arabische-kalligrafie/2028-07-16/
LOCATION:IGG Haus 94\, Udersbergstraße 94\, Gießen\, Hessen\, 35394\, Germany
ATTACH;FMTTYPE=image/jpeg:https://igg-online.de/wp-content/uploads/2025/11/arabische-kalligrafie.jpeg
END:VEVENT
BEGIN:VEVENT
DTSTART;TZID=Europe/Berlin:20280716T100000
DTEND;TZID=Europe/Berlin:20280716T140000
DTSTAMP:20260425T135820
CREATED:20250912T141834Z
LAST-MODIFIED:20250912T141834Z
UID:10001193-1847354400-1847368800@igg-online.de
SUMMARY:Kinder Club
DESCRIPTION:Die Arabische Schule wird vom Bruder A.A. geleitet.
URL:https://igg-online.de/veranstaltung/kinder-club/2028-07-16/
LOCATION:Islamische Gemeinde Giessen e.V.\, Udersbergstraße 92 - 94\, Gießen\, 35394
END:VEVENT
BEGIN:VEVENT
DTSTART;TZID=Europe/Berlin:20280715T180000
DTEND;TZID=Europe/Berlin:20280715T200000
DTSTAMP:20260425T135820
CREATED:20250912T141534Z
LAST-MODIFIED:20250912T141534Z
UID:10000932-1847296800-1847304000@igg-online.de
SUMMARY:Jungendtreff
DESCRIPTION:Die Veranstaltung wird vom Bruder J.C. geleitet.
URL:https://igg-online.de/veranstaltung/jungendtreff/2028-07-15/
LOCATION:IGG Haus 94\, Udersbergstraße 94\, Gießen\, Hessen\, 35394\, Germany
END:VEVENT
BEGIN:VEVENT
DTSTART;TZID=Europe/Berlin:20280715T170000
DTEND;TZID=Europe/Berlin:20280715T180000
DTSTAMP:20260425T135820
CREATED:20250912T103634Z
LAST-MODIFIED:20250912T140657Z
UID:10000671-1847293200-1847296800@igg-online.de
SUMMARY:Fiqh - Unterricht für Frauen\, Mädchen und eventuell Jungs
DESCRIPTION:Die  Veranstaltung  wird vom Cheikh Hammad geleitet.
URL:https://igg-online.de/veranstaltung/fiqh-unterricht-fuer-frauen-maedchen-und-eventuell-jungs/2028-07-15/
LOCATION:IGG Haus 92\, Udersbergstraße 92\, Gießen\, 35394
END:VEVENT
BEGIN:VEVENT
DTSTART;TZID=Europe/Berlin:20280715T120000
DTEND;TZID=Europe/Berlin:20280715T143000
DTSTAMP:20260425T135820
CREATED:20251218T200227Z
LAST-MODIFIED:20251218T200227Z
UID:10002857-1847275200-1847284200@igg-online.de
SUMMARY:Koranschule: Kinder und Jugendliche ab 12 Jahren
DESCRIPTION:Unterrichtszeiten und Altersgruppen\n\nSamstag\, 12:00–14:30 Uhr: Kinder und Jugendliche ab 12 Jahren\n\nUnterrichtsinhalte\n\nKoranrezitation (Tadschwīd) und korrekte Aussprache\nAuswendiglernen ausgewählter Suren entsprechend der Altersstufe\nVermittlung der täglichen Bittgebete und Adhkār\nFörderung islamischer Werte wie Respekt\, Verantwortung und Gemeinschaftssinn\nPädagogisch begleitete\, altersgerechte Freizeitaktivitäten\n\nKosten\nDer monatliche Beitrag beträgt 20\,00 € pro Kind. \nKontakt und Anmeldung\nFür Rückfragen sowie zur Anmeldung wenden Sie sich bitte an: \nBruder Abou Ouael Telefon: +49 176 70067004 \nKoranschule – Anmeldeformular
URL:https://igg-online.de/veranstaltung/koranschule-kinder-und-jugendliche-ab-12-jahren/2028-07-15/
LOCATION:IGG Haus 94\, Udersbergstraße 94\, Gießen\, Hessen\, 35394\, Germany
END:VEVENT
BEGIN:VEVENT
DTSTART;TZID=Europe/Berlin:20280715T100000
DTEND;TZID=Europe/Berlin:20280715T120000
DTSTAMP:20260425T135820
CREATED:20251218T195835Z
LAST-MODIFIED:20251218T195835Z
UID:10002596-1847268000-1847275200@igg-online.de
SUMMARY:Koranschule: Kinder im Alter von 6 bis 11 Jahren
DESCRIPTION:Unterrichtszeiten und Altersgruppen\n\nSamstag\, 10:00–12:00 Uhr: Kinder im Alter von 6 bis 11 Jahren\n\nUnterrichtsinhalte\n\nKoranrezitation (Tadschwīd) und korrekte Aussprache\nAuswendiglernen ausgewählter Suren entsprechend der Altersstufe\nVermittlung der täglichen Bittgebete und Adhkār\nFörderung islamischer Werte wie Respekt\, Verantwortung und Gemeinschaftssinn\nPädagogisch begleitete\, altersgerechte Freizeitaktivitäten\n\nKosten\nDer monatliche Beitrag beträgt 20\,00 € pro Kind. \nKontakt und Anmeldung\nFür Rückfragen sowie zur Anmeldung wenden Sie sich bitte an: \nBruder Abou Ouael Telefon: +49 176 70067004 \nKoranschule – Anmeldeformular
URL:https://igg-online.de/veranstaltung/koranschule-kinder-im-alter-von-6-bis-11-jahren/2028-07-15/
LOCATION:IGG Haus 94\, Udersbergstraße 94\, Gießen\, Hessen\, 35394\, Germany
END:VEVENT
BEGIN:VEVENT
DTSTART;TZID=Europe/Berlin:20280715T093000
DTEND;TZID=Europe/Berlin:20280715T110000
DTSTAMP:20260425T135820
CREATED:20250912T092137Z
LAST-MODIFIED:20250912T140631Z
UID:10000410-1847266200-1847271600@igg-online.de
SUMMARY:Koranunterricht für Frauen und Mädchen
DESCRIPTION:Die Veranstaltung wird von den Schwestern D.J. & D.J. geleitet.
URL:https://igg-online.de/veranstaltung/koranunterricht-fuer-frauen-und-maedchen/2028-07-15/
LOCATION:IGG Haus 92\, Udersbergstraße 92\, Gießen\, 35394
END:VEVENT
BEGIN:VEVENT
DTSTART;TZID=Europe/Berlin:20280713T200000
DTEND;TZID=Europe/Berlin:20280713T210000
DTSTAMP:20260425T135820
CREATED:20250912T090411Z
LAST-MODIFIED:20250912T140455Z
UID:10000148-1847131200-1847134800@igg-online.de
SUMMARY:Wöchentliche Rezitation des Heiligen Koran
DESCRIPTION:Die Veranstaltung findet online (über Zoom) statt und wird von den Brüdern R.S. & M.S. geleitet.
URL:https://igg-online.de/veranstaltung/woechentliche-rezitation-des-heiligen-koran/2028-07-13/
LOCATION:
END:VEVENT
BEGIN:VEVENT
DTSTART;TZID=Europe/Berlin:20280711T170000
DTEND;TZID=Europe/Berlin:20280711T190000
DTSTAMP:20260425T135820
CREATED:20250912T142400Z
LAST-MODIFIED:20250912T142400Z
UID:10001453-1846947600-1846954800@igg-online.de
SUMMARY:Mädchentreff
DESCRIPTION:Die Veranstaltung wird von den Schwestern J.A. & Ha. geleitet.
URL:https://igg-online.de/veranstaltung/maedchentreff/2028-07-11/
LOCATION:Islamische Gemeinde Giessen e.V.\, Udersbergstraße 92 - 94\, Gießen\, 35394
END:VEVENT
BEGIN:VEVENT
DTSTART;TZID=Europe/Berlin:20280710T180000
DTEND;TZID=Europe/Berlin:20280710T193000
DTSTAMP:20260425T135820
CREATED:20250912T143331Z
LAST-MODIFIED:20250912T143331Z
UID:10001714-1846864800-1846870200@igg-online.de
SUMMARY:Koran-Sitzung (Männer)
DESCRIPTION:Die Koran-Sitzung findet eine Stunde vor dem Maghrib-Gebet statt.\nDie  Sitzung wird vom Cheikh Hammad geleitet.
URL:https://igg-online.de/veranstaltung/koran-sitzung-maenner/2028-07-10/
LOCATION:IGG Haus 94\, Udersbergstraße 94\, Gießen\, Hessen\, 35394\, Germany
END:VEVENT
BEGIN:VEVENT
DTSTART;TZID=Europe/Berlin:20280709T160000
DTEND;TZID=Europe/Berlin:20280709T170000
DTSTAMP:20260425T135820
CREATED:20251103T133339Z
LAST-MODIFIED:20251103T133339Z
UID:10002261-1846771200-1846774800@igg-online.de
SUMMARY:Arabische Kalligrafie
DESCRIPTION:
URL:https://igg-online.de/veranstaltung/arabische-kalligrafie/2028-07-09/
LOCATION:IGG Haus 94\, Udersbergstraße 94\, Gießen\, Hessen\, 35394\, Germany
ATTACH;FMTTYPE=image/jpeg:https://igg-online.de/wp-content/uploads/2025/11/arabische-kalligrafie.jpeg
END:VEVENT
BEGIN:VEVENT
DTSTART;TZID=Europe/Berlin:20280709T100000
DTEND;TZID=Europe/Berlin:20280709T140000
DTSTAMP:20260425T135820
CREATED:20250912T141834Z
LAST-MODIFIED:20250912T141834Z
UID:10001192-1846749600-1846764000@igg-online.de
SUMMARY:Kinder Club
DESCRIPTION:Die Arabische Schule wird vom Bruder A.A. geleitet.
URL:https://igg-online.de/veranstaltung/kinder-club/2028-07-09/
LOCATION:Islamische Gemeinde Giessen e.V.\, Udersbergstraße 92 - 94\, Gießen\, 35394
END:VEVENT
BEGIN:VEVENT
DTSTART;TZID=Europe/Berlin:20280708T180000
DTEND;TZID=Europe/Berlin:20280708T200000
DTSTAMP:20260425T135820
CREATED:20250912T141534Z
LAST-MODIFIED:20250912T141534Z
UID:10000931-1846692000-1846699200@igg-online.de
SUMMARY:Jungendtreff
DESCRIPTION:Die Veranstaltung wird vom Bruder J.C. geleitet.
URL:https://igg-online.de/veranstaltung/jungendtreff/2028-07-08/
LOCATION:IGG Haus 94\, Udersbergstraße 94\, Gießen\, Hessen\, 35394\, Germany
END:VEVENT
BEGIN:VEVENT
DTSTART;TZID=Europe/Berlin:20280708T170000
DTEND;TZID=Europe/Berlin:20280708T180000
DTSTAMP:20260425T135820
CREATED:20250912T103634Z
LAST-MODIFIED:20250912T140657Z
UID:10000670-1846688400-1846692000@igg-online.de
SUMMARY:Fiqh - Unterricht für Frauen\, Mädchen und eventuell Jungs
DESCRIPTION:Die  Veranstaltung  wird vom Cheikh Hammad geleitet.
URL:https://igg-online.de/veranstaltung/fiqh-unterricht-fuer-frauen-maedchen-und-eventuell-jungs/2028-07-08/
LOCATION:IGG Haus 92\, Udersbergstraße 92\, Gießen\, 35394
END:VEVENT
BEGIN:VEVENT
DTSTART;TZID=Europe/Berlin:20280708T120000
DTEND;TZID=Europe/Berlin:20280708T143000
DTSTAMP:20260425T135820
CREATED:20251218T200227Z
LAST-MODIFIED:20251218T200227Z
UID:10002856-1846670400-1846679400@igg-online.de
SUMMARY:Koranschule: Kinder und Jugendliche ab 12 Jahren
DESCRIPTION:Unterrichtszeiten und Altersgruppen\n\nSamstag\, 12:00–14:30 Uhr: Kinder und Jugendliche ab 12 Jahren\n\nUnterrichtsinhalte\n\nKoranrezitation (Tadschwīd) und korrekte Aussprache\nAuswendiglernen ausgewählter Suren entsprechend der Altersstufe\nVermittlung der täglichen Bittgebete und Adhkār\nFörderung islamischer Werte wie Respekt\, Verantwortung und Gemeinschaftssinn\nPädagogisch begleitete\, altersgerechte Freizeitaktivitäten\n\nKosten\nDer monatliche Beitrag beträgt 20\,00 € pro Kind. \nKontakt und Anmeldung\nFür Rückfragen sowie zur Anmeldung wenden Sie sich bitte an: \nBruder Abou Ouael Telefon: +49 176 70067004 \nKoranschule – Anmeldeformular
URL:https://igg-online.de/veranstaltung/koranschule-kinder-und-jugendliche-ab-12-jahren/2028-07-08/
LOCATION:IGG Haus 94\, Udersbergstraße 94\, Gießen\, Hessen\, 35394\, Germany
END:VEVENT
BEGIN:VEVENT
DTSTART;TZID=Europe/Berlin:20280708T100000
DTEND;TZID=Europe/Berlin:20280708T120000
DTSTAMP:20260425T135820
CREATED:20251218T195835Z
LAST-MODIFIED:20251218T195835Z
UID:10002595-1846663200-1846670400@igg-online.de
SUMMARY:Koranschule: Kinder im Alter von 6 bis 11 Jahren
DESCRIPTION:Unterrichtszeiten und Altersgruppen\n\nSamstag\, 10:00–12:00 Uhr: Kinder im Alter von 6 bis 11 Jahren\n\nUnterrichtsinhalte\n\nKoranrezitation (Tadschwīd) und korrekte Aussprache\nAuswendiglernen ausgewählter Suren entsprechend der Altersstufe\nVermittlung der täglichen Bittgebete und Adhkār\nFörderung islamischer Werte wie Respekt\, Verantwortung und Gemeinschaftssinn\nPädagogisch begleitete\, altersgerechte Freizeitaktivitäten\n\nKosten\nDer monatliche Beitrag beträgt 20\,00 € pro Kind. \nKontakt und Anmeldung\nFür Rückfragen sowie zur Anmeldung wenden Sie sich bitte an: \nBruder Abou Ouael Telefon: +49 176 70067004 \nKoranschule – Anmeldeformular
URL:https://igg-online.de/veranstaltung/koranschule-kinder-im-alter-von-6-bis-11-jahren/2028-07-08/
LOCATION:IGG Haus 94\, Udersbergstraße 94\, Gießen\, Hessen\, 35394\, Germany
END:VEVENT
BEGIN:VEVENT
DTSTART;TZID=Europe/Berlin:20280708T093000
DTEND;TZID=Europe/Berlin:20280708T110000
DTSTAMP:20260425T135820
CREATED:20250912T092137Z
LAST-MODIFIED:20250912T140631Z
UID:10000409-1846661400-1846666800@igg-online.de
SUMMARY:Koranunterricht für Frauen und Mädchen
DESCRIPTION:Die Veranstaltung wird von den Schwestern D.J. & D.J. geleitet.
URL:https://igg-online.de/veranstaltung/koranunterricht-fuer-frauen-und-maedchen/2028-07-08/
LOCATION:IGG Haus 92\, Udersbergstraße 92\, Gießen\, 35394
END:VEVENT
BEGIN:VEVENT
DTSTART;TZID=Europe/Berlin:20280706T200000
DTEND;TZID=Europe/Berlin:20280706T210000
DTSTAMP:20260425T135820
CREATED:20250912T090411Z
LAST-MODIFIED:20250912T140455Z
UID:10000147-1846526400-1846530000@igg-online.de
SUMMARY:Wöchentliche Rezitation des Heiligen Koran
DESCRIPTION:Die Veranstaltung findet online (über Zoom) statt und wird von den Brüdern R.S. & M.S. geleitet.
URL:https://igg-online.de/veranstaltung/woechentliche-rezitation-des-heiligen-koran/2028-07-06/
LOCATION:
END:VEVENT
BEGIN:VEVENT
DTSTART;TZID=Europe/Berlin:20280704T170000
DTEND;TZID=Europe/Berlin:20280704T190000
DTSTAMP:20260425T135820
CREATED:20250912T142400Z
LAST-MODIFIED:20250912T142400Z
UID:10001452-1846342800-1846350000@igg-online.de
SUMMARY:Mädchentreff
DESCRIPTION:Die Veranstaltung wird von den Schwestern J.A. & Ha. geleitet.
URL:https://igg-online.de/veranstaltung/maedchentreff/2028-07-04/
LOCATION:Islamische Gemeinde Giessen e.V.\, Udersbergstraße 92 - 94\, Gießen\, 35394
END:VEVENT
BEGIN:VEVENT
DTSTART;TZID=Europe/Berlin:20280703T180000
DTEND;TZID=Europe/Berlin:20280703T193000
DTSTAMP:20260425T135820
CREATED:20250912T143331Z
LAST-MODIFIED:20250912T143331Z
UID:10001713-1846260000-1846265400@igg-online.de
SUMMARY:Koran-Sitzung (Männer)
DESCRIPTION:Die Koran-Sitzung findet eine Stunde vor dem Maghrib-Gebet statt.\nDie  Sitzung wird vom Cheikh Hammad geleitet.
URL:https://igg-online.de/veranstaltung/koran-sitzung-maenner/2028-07-03/
LOCATION:IGG Haus 94\, Udersbergstraße 94\, Gießen\, Hessen\, 35394\, Germany
END:VEVENT
BEGIN:VEVENT
DTSTART;TZID=Europe/Berlin:20280702T173000
DTEND;TZID=Europe/Berlin:20280702T193000
DTSTAMP:20260425T135820
CREATED:20251103T132850Z
LAST-MODIFIED:20251103T132850Z
UID:10002060-1846171800-1846179000@igg-online.de
SUMMARY:Nasheed Chor für Frauen
DESCRIPTION:
URL:https://igg-online.de/veranstaltung/nasheed-chor-fuer-frauen/2028-07-02/
LOCATION:IGG Haus 92\, Udersbergstraße 92\, Gießen\, 35394
ATTACH;FMTTYPE=image/jpeg:https://igg-online.de/wp-content/uploads/2025/11/nascheed-Chor.jpeg
END:VEVENT
BEGIN:VEVENT
DTSTART;TZID=Europe/Berlin:20280702T160000
DTEND;TZID=Europe/Berlin:20280702T170000
DTSTAMP:20260425T135821
CREATED:20251103T133339Z
LAST-MODIFIED:20251103T133339Z
UID:10002260-1846166400-1846170000@igg-online.de
SUMMARY:Arabische Kalligrafie
DESCRIPTION:
URL:https://igg-online.de/veranstaltung/arabische-kalligrafie/2028-07-02/
LOCATION:IGG Haus 94\, Udersbergstraße 94\, Gießen\, Hessen\, 35394\, Germany
ATTACH;FMTTYPE=image/jpeg:https://igg-online.de/wp-content/uploads/2025/11/arabische-kalligrafie.jpeg
END:VEVENT
BEGIN:VEVENT
DTSTART;TZID=Europe/Berlin:20280702T100000
DTEND;TZID=Europe/Berlin:20280702T140000
DTSTAMP:20260425T135821
CREATED:20250912T141834Z
LAST-MODIFIED:20250912T141834Z
UID:10001191-1846144800-1846159200@igg-online.de
SUMMARY:Kinder Club
DESCRIPTION:Die Arabische Schule wird vom Bruder A.A. geleitet.
URL:https://igg-online.de/veranstaltung/kinder-club/2028-07-02/
LOCATION:Islamische Gemeinde Giessen e.V.\, Udersbergstraße 92 - 94\, Gießen\, 35394
END:VEVENT
BEGIN:VEVENT
DTSTART;TZID=Europe/Berlin:20280701T180000
DTEND;TZID=Europe/Berlin:20280701T200000
DTSTAMP:20260425T135821
CREATED:20250912T141534Z
LAST-MODIFIED:20250912T141534Z
UID:10000930-1846087200-1846094400@igg-online.de
SUMMARY:Jungendtreff
DESCRIPTION:Die Veranstaltung wird vom Bruder J.C. geleitet.
URL:https://igg-online.de/veranstaltung/jungendtreff/2028-07-01/
LOCATION:IGG Haus 94\, Udersbergstraße 94\, Gießen\, Hessen\, 35394\, Germany
END:VEVENT
BEGIN:VEVENT
DTSTART;TZID=Europe/Berlin:20280701T170000
DTEND;TZID=Europe/Berlin:20280701T180000
DTSTAMP:20260425T135821
CREATED:20250912T103634Z
LAST-MODIFIED:20250912T140657Z
UID:10000669-1846083600-1846087200@igg-online.de
SUMMARY:Fiqh - Unterricht für Frauen\, Mädchen und eventuell Jungs
DESCRIPTION:Die  Veranstaltung  wird vom Cheikh Hammad geleitet.
URL:https://igg-online.de/veranstaltung/fiqh-unterricht-fuer-frauen-maedchen-und-eventuell-jungs/2028-07-01/
LOCATION:IGG Haus 92\, Udersbergstraße 92\, Gießen\, 35394
END:VEVENT
BEGIN:VEVENT
DTSTART;TZID=Europe/Berlin:20280701T120000
DTEND;TZID=Europe/Berlin:20280701T143000
DTSTAMP:20260425T135821
CREATED:20251218T200227Z
LAST-MODIFIED:20251218T200227Z
UID:10002855-1846065600-1846074600@igg-online.de
SUMMARY:Koranschule: Kinder und Jugendliche ab 12 Jahren
DESCRIPTION:Unterrichtszeiten und Altersgruppen\n\nSamstag\, 12:00–14:30 Uhr: Kinder und Jugendliche ab 12 Jahren\n\nUnterrichtsinhalte\n\nKoranrezitation (Tadschwīd) und korrekte Aussprache\nAuswendiglernen ausgewählter Suren entsprechend der Altersstufe\nVermittlung der täglichen Bittgebete und Adhkār\nFörderung islamischer Werte wie Respekt\, Verantwortung und Gemeinschaftssinn\nPädagogisch begleitete\, altersgerechte Freizeitaktivitäten\n\nKosten\nDer monatliche Beitrag beträgt 20\,00 € pro Kind. \nKontakt und Anmeldung\nFür Rückfragen sowie zur Anmeldung wenden Sie sich bitte an: \nBruder Abou Ouael Telefon: +49 176 70067004 \nKoranschule – Anmeldeformular
URL:https://igg-online.de/veranstaltung/koranschule-kinder-und-jugendliche-ab-12-jahren/2028-07-01/
LOCATION:IGG Haus 94\, Udersbergstraße 94\, Gießen\, Hessen\, 35394\, Germany
END:VEVENT
END:VCALENDAR