BEGIN:VCALENDAR
VERSION:2.0
PRODID:-//Islamische Gemeinde Giessen e.V. - ECPv6.15.20//NONSGML v1.0//EN
CALSCALE:GREGORIAN
METHOD:PUBLISH
X-ORIGINAL-URL:https://igg-online.de
X-WR-CALDESC:Veranstaltungen für Islamische Gemeinde Giessen e.V.
REFRESH-INTERVAL;VALUE=DURATION:PT1H
X-Robots-Tag:noindex
X-PUBLISHED-TTL:PT1H
BEGIN:VTIMEZONE
TZID:Europe/Berlin
BEGIN:DAYLIGHT
TZOFFSETFROM:+0100
TZOFFSETTO:+0200
TZNAME:CEST
DTSTART:20260329T010000
END:DAYLIGHT
BEGIN:STANDARD
TZOFFSETFROM:+0200
TZOFFSETTO:+0100
TZNAME:CET
DTSTART:20261025T010000
END:STANDARD
BEGIN:DAYLIGHT
TZOFFSETFROM:+0100
TZOFFSETTO:+0200
TZNAME:CEST
DTSTART:20270328T010000
END:DAYLIGHT
BEGIN:STANDARD
TZOFFSETFROM:+0200
TZOFFSETTO:+0100
TZNAME:CET
DTSTART:20271031T010000
END:STANDARD
BEGIN:DAYLIGHT
TZOFFSETFROM:+0100
TZOFFSETTO:+0200
TZNAME:CEST
DTSTART:20280326T010000
END:DAYLIGHT
BEGIN:STANDARD
TZOFFSETFROM:+0200
TZOFFSETTO:+0100
TZNAME:CET
DTSTART:20281029T010000
END:STANDARD
END:VTIMEZONE
BEGIN:VEVENT
DTSTART;TZID=Europe/Berlin:20270816T180000
DTEND;TZID=Europe/Berlin:20270816T193000
DTSTAMP:20260422T063536
CREATED:20250912T143331Z
LAST-MODIFIED:20250912T143331Z
UID:10001667-1818439200-1818444600@igg-online.de
SUMMARY:Koran-Sitzung (Männer)
DESCRIPTION:Die Koran-Sitzung findet eine Stunde vor dem Maghrib-Gebet statt.\nDie  Sitzung wird vom Cheikh Hammad geleitet.
URL:https://igg-online.de/veranstaltung/koran-sitzung-maenner/2027-08-16/
LOCATION:IGG Haus 94\, Udersbergstraße 94\, Gießen\, Hessen\, 35394\, Germany
END:VEVENT
BEGIN:VEVENT
DTSTART;TZID=Europe/Berlin:20270817T170000
DTEND;TZID=Europe/Berlin:20270817T190000
DTSTAMP:20260422T063536
CREATED:20250912T142400Z
LAST-MODIFIED:20250912T142400Z
UID:10001406-1818522000-1818529200@igg-online.de
SUMMARY:Mädchentreff
DESCRIPTION:Die Veranstaltung wird von den Schwestern J.A. & Ha. geleitet.
URL:https://igg-online.de/veranstaltung/maedchentreff/2027-08-17/
LOCATION:Islamische Gemeinde Giessen e.V.\, Udersbergstraße 92 - 94\, Gießen\, 35394
END:VEVENT
BEGIN:VEVENT
DTSTART;TZID=Europe/Berlin:20270819T200000
DTEND;TZID=Europe/Berlin:20270819T210000
DTSTAMP:20260422T063536
CREATED:20250912T090411Z
LAST-MODIFIED:20250912T140455Z
UID:10000101-1818705600-1818709200@igg-online.de
SUMMARY:Wöchentliche Rezitation des Heiligen Koran
DESCRIPTION:Die Veranstaltung findet online (über Zoom) statt und wird von den Brüdern R.S. & M.S. geleitet.
URL:https://igg-online.de/veranstaltung/woechentliche-rezitation-des-heiligen-koran/2027-08-19/
LOCATION:
END:VEVENT
BEGIN:VEVENT
DTSTART;TZID=Europe/Berlin:20270821T093000
DTEND;TZID=Europe/Berlin:20270821T110000
DTSTAMP:20260422T063536
CREATED:20250912T092137Z
LAST-MODIFIED:20250912T140631Z
UID:10000363-1818840600-1818846000@igg-online.de
SUMMARY:Koranunterricht für Frauen und Mädchen
DESCRIPTION:Die Veranstaltung wird von den Schwestern D.J. & D.J. geleitet.
URL:https://igg-online.de/veranstaltung/koranunterricht-fuer-frauen-und-maedchen/2027-08-21/
LOCATION:IGG Haus 92\, Udersbergstraße 92\, Gießen\, 35394
END:VEVENT
BEGIN:VEVENT
DTSTART;TZID=Europe/Berlin:20270821T100000
DTEND;TZID=Europe/Berlin:20270821T120000
DTSTAMP:20260422T063536
CREATED:20251218T195835Z
LAST-MODIFIED:20251218T195835Z
UID:10002549-1818842400-1818849600@igg-online.de
SUMMARY:Koranschule: Kinder im Alter von 6 bis 11 Jahren
DESCRIPTION:Unterrichtszeiten und Altersgruppen\n\nSamstag\, 10:00–12:00 Uhr: Kinder im Alter von 6 bis 11 Jahren\n\nUnterrichtsinhalte\n\nKoranrezitation (Tadschwīd) und korrekte Aussprache\nAuswendiglernen ausgewählter Suren entsprechend der Altersstufe\nVermittlung der täglichen Bittgebete und Adhkār\nFörderung islamischer Werte wie Respekt\, Verantwortung und Gemeinschaftssinn\nPädagogisch begleitete\, altersgerechte Freizeitaktivitäten\n\nKosten\nDer monatliche Beitrag beträgt 20\,00 € pro Kind. \nKontakt und Anmeldung\nFür Rückfragen sowie zur Anmeldung wenden Sie sich bitte an: \nBruder Abou Ouael Telefon: +49 176 70067004 \nKoranschule – Anmeldeformular
URL:https://igg-online.de/veranstaltung/koranschule-kinder-im-alter-von-6-bis-11-jahren/2027-08-21/
LOCATION:IGG Haus 94\, Udersbergstraße 94\, Gießen\, Hessen\, 35394\, Germany
END:VEVENT
BEGIN:VEVENT
DTSTART;TZID=Europe/Berlin:20270821T120000
DTEND;TZID=Europe/Berlin:20270821T143000
DTSTAMP:20260422T063536
CREATED:20251218T200227Z
LAST-MODIFIED:20251218T200227Z
UID:10002810-1818849600-1818858600@igg-online.de
SUMMARY:Koranschule: Kinder und Jugendliche ab 12 Jahren
DESCRIPTION:Unterrichtszeiten und Altersgruppen\n\nSamstag\, 12:00–14:30 Uhr: Kinder und Jugendliche ab 12 Jahren\n\nUnterrichtsinhalte\n\nKoranrezitation (Tadschwīd) und korrekte Aussprache\nAuswendiglernen ausgewählter Suren entsprechend der Altersstufe\nVermittlung der täglichen Bittgebete und Adhkār\nFörderung islamischer Werte wie Respekt\, Verantwortung und Gemeinschaftssinn\nPädagogisch begleitete\, altersgerechte Freizeitaktivitäten\n\nKosten\nDer monatliche Beitrag beträgt 20\,00 € pro Kind. \nKontakt und Anmeldung\nFür Rückfragen sowie zur Anmeldung wenden Sie sich bitte an: \nBruder Abou Ouael Telefon: +49 176 70067004 \nKoranschule – Anmeldeformular
URL:https://igg-online.de/veranstaltung/koranschule-kinder-und-jugendliche-ab-12-jahren/2027-08-21/
LOCATION:IGG Haus 94\, Udersbergstraße 94\, Gießen\, Hessen\, 35394\, Germany
END:VEVENT
BEGIN:VEVENT
DTSTART;TZID=Europe/Berlin:20270821T170000
DTEND;TZID=Europe/Berlin:20270821T180000
DTSTAMP:20260422T063536
CREATED:20250912T103634Z
LAST-MODIFIED:20250912T140657Z
UID:10000624-1818867600-1818871200@igg-online.de
SUMMARY:Fiqh - Unterricht für Frauen\, Mädchen und eventuell Jungs
DESCRIPTION:Die  Veranstaltung  wird vom Cheikh Hammad geleitet.
URL:https://igg-online.de/veranstaltung/fiqh-unterricht-fuer-frauen-maedchen-und-eventuell-jungs/2027-08-21/
LOCATION:IGG Haus 92\, Udersbergstraße 92\, Gießen\, 35394
END:VEVENT
BEGIN:VEVENT
DTSTART;TZID=Europe/Berlin:20270821T180000
DTEND;TZID=Europe/Berlin:20270821T200000
DTSTAMP:20260422T063536
CREATED:20250912T141534Z
LAST-MODIFIED:20250912T141534Z
UID:10000885-1818871200-1818878400@igg-online.de
SUMMARY:Jungendtreff
DESCRIPTION:Die Veranstaltung wird vom Bruder J.C. geleitet.
URL:https://igg-online.de/veranstaltung/jungendtreff/2027-08-21/
LOCATION:IGG Haus 94\, Udersbergstraße 94\, Gießen\, Hessen\, 35394\, Germany
END:VEVENT
BEGIN:VEVENT
DTSTART;TZID=Europe/Berlin:20270822T100000
DTEND;TZID=Europe/Berlin:20270822T140000
DTSTAMP:20260422T063536
CREATED:20250912T141834Z
LAST-MODIFIED:20250912T141834Z
UID:10001146-1818928800-1818943200@igg-online.de
SUMMARY:Kinder Club
DESCRIPTION:Die Arabische Schule wird vom Bruder A.A. geleitet.
URL:https://igg-online.de/veranstaltung/kinder-club/2027-08-22/
LOCATION:Islamische Gemeinde Giessen e.V.\, Udersbergstraße 92 - 94\, Gießen\, 35394
END:VEVENT
BEGIN:VEVENT
DTSTART;TZID=Europe/Berlin:20270822T160000
DTEND;TZID=Europe/Berlin:20270822T170000
DTSTAMP:20260422T063536
CREATED:20251103T133339Z
LAST-MODIFIED:20251103T133339Z
UID:10002215-1818950400-1818954000@igg-online.de
SUMMARY:Arabische Kalligrafie
DESCRIPTION:
URL:https://igg-online.de/veranstaltung/arabische-kalligrafie/2027-08-22/
LOCATION:IGG Haus 94\, Udersbergstraße 94\, Gießen\, Hessen\, 35394\, Germany
ATTACH;FMTTYPE=image/jpeg:https://igg-online.de/wp-content/uploads/2025/11/arabische-kalligrafie.jpeg
END:VEVENT
BEGIN:VEVENT
DTSTART;TZID=Europe/Berlin:20270823T180000
DTEND;TZID=Europe/Berlin:20270823T193000
DTSTAMP:20260422T063536
CREATED:20250912T143331Z
LAST-MODIFIED:20250912T143331Z
UID:10001668-1819044000-1819049400@igg-online.de
SUMMARY:Koran-Sitzung (Männer)
DESCRIPTION:Die Koran-Sitzung findet eine Stunde vor dem Maghrib-Gebet statt.\nDie  Sitzung wird vom Cheikh Hammad geleitet.
URL:https://igg-online.de/veranstaltung/koran-sitzung-maenner/2027-08-23/
LOCATION:IGG Haus 94\, Udersbergstraße 94\, Gießen\, Hessen\, 35394\, Germany
END:VEVENT
BEGIN:VEVENT
DTSTART;TZID=Europe/Berlin:20270824T170000
DTEND;TZID=Europe/Berlin:20270824T190000
DTSTAMP:20260422T063536
CREATED:20250912T142400Z
LAST-MODIFIED:20250912T142400Z
UID:10001407-1819126800-1819134000@igg-online.de
SUMMARY:Mädchentreff
DESCRIPTION:Die Veranstaltung wird von den Schwestern J.A. & Ha. geleitet.
URL:https://igg-online.de/veranstaltung/maedchentreff/2027-08-24/
LOCATION:Islamische Gemeinde Giessen e.V.\, Udersbergstraße 92 - 94\, Gießen\, 35394
END:VEVENT
BEGIN:VEVENT
DTSTART;TZID=Europe/Berlin:20270826T200000
DTEND;TZID=Europe/Berlin:20270826T210000
DTSTAMP:20260422T063536
CREATED:20250912T090411Z
LAST-MODIFIED:20250912T140455Z
UID:10000102-1819310400-1819314000@igg-online.de
SUMMARY:Wöchentliche Rezitation des Heiligen Koran
DESCRIPTION:Die Veranstaltung findet online (über Zoom) statt und wird von den Brüdern R.S. & M.S. geleitet.
URL:https://igg-online.de/veranstaltung/woechentliche-rezitation-des-heiligen-koran/2027-08-26/
LOCATION:
END:VEVENT
BEGIN:VEVENT
DTSTART;TZID=Europe/Berlin:20270828T093000
DTEND;TZID=Europe/Berlin:20270828T110000
DTSTAMP:20260422T063536
CREATED:20250912T092137Z
LAST-MODIFIED:20250912T140631Z
UID:10000364-1819445400-1819450800@igg-online.de
SUMMARY:Koranunterricht für Frauen und Mädchen
DESCRIPTION:Die Veranstaltung wird von den Schwestern D.J. & D.J. geleitet.
URL:https://igg-online.de/veranstaltung/koranunterricht-fuer-frauen-und-maedchen/2027-08-28/
LOCATION:IGG Haus 92\, Udersbergstraße 92\, Gießen\, 35394
END:VEVENT
BEGIN:VEVENT
DTSTART;TZID=Europe/Berlin:20270828T100000
DTEND;TZID=Europe/Berlin:20270828T120000
DTSTAMP:20260422T063536
CREATED:20251218T195835Z
LAST-MODIFIED:20251218T195835Z
UID:10002550-1819447200-1819454400@igg-online.de
SUMMARY:Koranschule: Kinder im Alter von 6 bis 11 Jahren
DESCRIPTION:Unterrichtszeiten und Altersgruppen\n\nSamstag\, 10:00–12:00 Uhr: Kinder im Alter von 6 bis 11 Jahren\n\nUnterrichtsinhalte\n\nKoranrezitation (Tadschwīd) und korrekte Aussprache\nAuswendiglernen ausgewählter Suren entsprechend der Altersstufe\nVermittlung der täglichen Bittgebete und Adhkār\nFörderung islamischer Werte wie Respekt\, Verantwortung und Gemeinschaftssinn\nPädagogisch begleitete\, altersgerechte Freizeitaktivitäten\n\nKosten\nDer monatliche Beitrag beträgt 20\,00 € pro Kind. \nKontakt und Anmeldung\nFür Rückfragen sowie zur Anmeldung wenden Sie sich bitte an: \nBruder Abou Ouael Telefon: +49 176 70067004 \nKoranschule – Anmeldeformular
URL:https://igg-online.de/veranstaltung/koranschule-kinder-im-alter-von-6-bis-11-jahren/2027-08-28/
LOCATION:IGG Haus 94\, Udersbergstraße 94\, Gießen\, Hessen\, 35394\, Germany
END:VEVENT
BEGIN:VEVENT
DTSTART;TZID=Europe/Berlin:20270828T120000
DTEND;TZID=Europe/Berlin:20270828T143000
DTSTAMP:20260422T063536
CREATED:20251218T200227Z
LAST-MODIFIED:20251218T200227Z
UID:10002811-1819454400-1819463400@igg-online.de
SUMMARY:Koranschule: Kinder und Jugendliche ab 12 Jahren
DESCRIPTION:Unterrichtszeiten und Altersgruppen\n\nSamstag\, 12:00–14:30 Uhr: Kinder und Jugendliche ab 12 Jahren\n\nUnterrichtsinhalte\n\nKoranrezitation (Tadschwīd) und korrekte Aussprache\nAuswendiglernen ausgewählter Suren entsprechend der Altersstufe\nVermittlung der täglichen Bittgebete und Adhkār\nFörderung islamischer Werte wie Respekt\, Verantwortung und Gemeinschaftssinn\nPädagogisch begleitete\, altersgerechte Freizeitaktivitäten\n\nKosten\nDer monatliche Beitrag beträgt 20\,00 € pro Kind. \nKontakt und Anmeldung\nFür Rückfragen sowie zur Anmeldung wenden Sie sich bitte an: \nBruder Abou Ouael Telefon: +49 176 70067004 \nKoranschule – Anmeldeformular
URL:https://igg-online.de/veranstaltung/koranschule-kinder-und-jugendliche-ab-12-jahren/2027-08-28/
LOCATION:IGG Haus 94\, Udersbergstraße 94\, Gießen\, Hessen\, 35394\, Germany
END:VEVENT
BEGIN:VEVENT
DTSTART;TZID=Europe/Berlin:20270828T170000
DTEND;TZID=Europe/Berlin:20270828T180000
DTSTAMP:20260422T063536
CREATED:20250912T103634Z
LAST-MODIFIED:20250912T140657Z
UID:10000625-1819472400-1819476000@igg-online.de
SUMMARY:Fiqh - Unterricht für Frauen\, Mädchen und eventuell Jungs
DESCRIPTION:Die  Veranstaltung  wird vom Cheikh Hammad geleitet.
URL:https://igg-online.de/veranstaltung/fiqh-unterricht-fuer-frauen-maedchen-und-eventuell-jungs/2027-08-28/
LOCATION:IGG Haus 92\, Udersbergstraße 92\, Gießen\, 35394
END:VEVENT
BEGIN:VEVENT
DTSTART;TZID=Europe/Berlin:20270828T180000
DTEND;TZID=Europe/Berlin:20270828T200000
DTSTAMP:20260422T063536
CREATED:20250912T141534Z
LAST-MODIFIED:20250912T141534Z
UID:10000886-1819476000-1819483200@igg-online.de
SUMMARY:Jungendtreff
DESCRIPTION:Die Veranstaltung wird vom Bruder J.C. geleitet.
URL:https://igg-online.de/veranstaltung/jungendtreff/2027-08-28/
LOCATION:IGG Haus 94\, Udersbergstraße 94\, Gießen\, Hessen\, 35394\, Germany
END:VEVENT
BEGIN:VEVENT
DTSTART;TZID=Europe/Berlin:20270829T100000
DTEND;TZID=Europe/Berlin:20270829T140000
DTSTAMP:20260422T063536
CREATED:20250912T141834Z
LAST-MODIFIED:20250912T141834Z
UID:10001147-1819533600-1819548000@igg-online.de
SUMMARY:Kinder Club
DESCRIPTION:Die Arabische Schule wird vom Bruder A.A. geleitet.
URL:https://igg-online.de/veranstaltung/kinder-club/2027-08-29/
LOCATION:Islamische Gemeinde Giessen e.V.\, Udersbergstraße 92 - 94\, Gießen\, 35394
END:VEVENT
BEGIN:VEVENT
DTSTART;TZID=Europe/Berlin:20270829T160000
DTEND;TZID=Europe/Berlin:20270829T170000
DTSTAMP:20260422T063536
CREATED:20251103T133339Z
LAST-MODIFIED:20251103T133339Z
UID:10002216-1819555200-1819558800@igg-online.de
SUMMARY:Arabische Kalligrafie
DESCRIPTION:
URL:https://igg-online.de/veranstaltung/arabische-kalligrafie/2027-08-29/
LOCATION:IGG Haus 94\, Udersbergstraße 94\, Gießen\, Hessen\, 35394\, Germany
ATTACH;FMTTYPE=image/jpeg:https://igg-online.de/wp-content/uploads/2025/11/arabische-kalligrafie.jpeg
END:VEVENT
BEGIN:VEVENT
DTSTART;TZID=Europe/Berlin:20270829T173000
DTEND;TZID=Europe/Berlin:20270829T193000
DTSTAMP:20260422T063536
CREATED:20251103T132850Z
LAST-MODIFIED:20251103T132850Z
UID:10002038-1819560600-1819567800@igg-online.de
SUMMARY:Nasheed Chor für Frauen
DESCRIPTION:
URL:https://igg-online.de/veranstaltung/nasheed-chor-fuer-frauen/2027-08-29/
LOCATION:IGG Haus 92\, Udersbergstraße 92\, Gießen\, 35394
ATTACH;FMTTYPE=image/jpeg:https://igg-online.de/wp-content/uploads/2025/11/nascheed-Chor.jpeg
END:VEVENT
BEGIN:VEVENT
DTSTART;TZID=Europe/Berlin:20270830T180000
DTEND;TZID=Europe/Berlin:20270830T193000
DTSTAMP:20260422T063536
CREATED:20250912T143331Z
LAST-MODIFIED:20250912T143331Z
UID:10001669-1819648800-1819654200@igg-online.de
SUMMARY:Koran-Sitzung (Männer)
DESCRIPTION:Die Koran-Sitzung findet eine Stunde vor dem Maghrib-Gebet statt.\nDie  Sitzung wird vom Cheikh Hammad geleitet.
URL:https://igg-online.de/veranstaltung/koran-sitzung-maenner/2027-08-30/
LOCATION:IGG Haus 94\, Udersbergstraße 94\, Gießen\, Hessen\, 35394\, Germany
END:VEVENT
BEGIN:VEVENT
DTSTART;TZID=Europe/Berlin:20270831T170000
DTEND;TZID=Europe/Berlin:20270831T190000
DTSTAMP:20260422T063536
CREATED:20250912T142400Z
LAST-MODIFIED:20250912T142400Z
UID:10001408-1819731600-1819738800@igg-online.de
SUMMARY:Mädchentreff
DESCRIPTION:Die Veranstaltung wird von den Schwestern J.A. & Ha. geleitet.
URL:https://igg-online.de/veranstaltung/maedchentreff/2027-08-31/
LOCATION:Islamische Gemeinde Giessen e.V.\, Udersbergstraße 92 - 94\, Gießen\, 35394
END:VEVENT
BEGIN:VEVENT
DTSTART;TZID=Europe/Berlin:20270902T200000
DTEND;TZID=Europe/Berlin:20270902T210000
DTSTAMP:20260422T063536
CREATED:20250912T090411Z
LAST-MODIFIED:20250912T140455Z
UID:10000103-1819915200-1819918800@igg-online.de
SUMMARY:Wöchentliche Rezitation des Heiligen Koran
DESCRIPTION:Die Veranstaltung findet online (über Zoom) statt und wird von den Brüdern R.S. & M.S. geleitet.
URL:https://igg-online.de/veranstaltung/woechentliche-rezitation-des-heiligen-koran/2027-09-02/
LOCATION:
END:VEVENT
BEGIN:VEVENT
DTSTART;TZID=Europe/Berlin:20270904T093000
DTEND;TZID=Europe/Berlin:20270904T110000
DTSTAMP:20260422T063536
CREATED:20250912T092137Z
LAST-MODIFIED:20250912T140631Z
UID:10000365-1820050200-1820055600@igg-online.de
SUMMARY:Koranunterricht für Frauen und Mädchen
DESCRIPTION:Die Veranstaltung wird von den Schwestern D.J. & D.J. geleitet.
URL:https://igg-online.de/veranstaltung/koranunterricht-fuer-frauen-und-maedchen/2027-09-04/
LOCATION:IGG Haus 92\, Udersbergstraße 92\, Gießen\, 35394
END:VEVENT
BEGIN:VEVENT
DTSTART;TZID=Europe/Berlin:20270904T100000
DTEND;TZID=Europe/Berlin:20270904T120000
DTSTAMP:20260422T063536
CREATED:20251218T195835Z
LAST-MODIFIED:20251218T195835Z
UID:10002551-1820052000-1820059200@igg-online.de
SUMMARY:Koranschule: Kinder im Alter von 6 bis 11 Jahren
DESCRIPTION:Unterrichtszeiten und Altersgruppen\n\nSamstag\, 10:00–12:00 Uhr: Kinder im Alter von 6 bis 11 Jahren\n\nUnterrichtsinhalte\n\nKoranrezitation (Tadschwīd) und korrekte Aussprache\nAuswendiglernen ausgewählter Suren entsprechend der Altersstufe\nVermittlung der täglichen Bittgebete und Adhkār\nFörderung islamischer Werte wie Respekt\, Verantwortung und Gemeinschaftssinn\nPädagogisch begleitete\, altersgerechte Freizeitaktivitäten\n\nKosten\nDer monatliche Beitrag beträgt 20\,00 € pro Kind. \nKontakt und Anmeldung\nFür Rückfragen sowie zur Anmeldung wenden Sie sich bitte an: \nBruder Abou Ouael Telefon: +49 176 70067004 \nKoranschule – Anmeldeformular
URL:https://igg-online.de/veranstaltung/koranschule-kinder-im-alter-von-6-bis-11-jahren/2027-09-04/
LOCATION:IGG Haus 94\, Udersbergstraße 94\, Gießen\, Hessen\, 35394\, Germany
END:VEVENT
BEGIN:VEVENT
DTSTART;TZID=Europe/Berlin:20270904T120000
DTEND;TZID=Europe/Berlin:20270904T143000
DTSTAMP:20260422T063536
CREATED:20251218T200227Z
LAST-MODIFIED:20251218T200227Z
UID:10002812-1820059200-1820068200@igg-online.de
SUMMARY:Koranschule: Kinder und Jugendliche ab 12 Jahren
DESCRIPTION:Unterrichtszeiten und Altersgruppen\n\nSamstag\, 12:00–14:30 Uhr: Kinder und Jugendliche ab 12 Jahren\n\nUnterrichtsinhalte\n\nKoranrezitation (Tadschwīd) und korrekte Aussprache\nAuswendiglernen ausgewählter Suren entsprechend der Altersstufe\nVermittlung der täglichen Bittgebete und Adhkār\nFörderung islamischer Werte wie Respekt\, Verantwortung und Gemeinschaftssinn\nPädagogisch begleitete\, altersgerechte Freizeitaktivitäten\n\nKosten\nDer monatliche Beitrag beträgt 20\,00 € pro Kind. \nKontakt und Anmeldung\nFür Rückfragen sowie zur Anmeldung wenden Sie sich bitte an: \nBruder Abou Ouael Telefon: +49 176 70067004 \nKoranschule – Anmeldeformular
URL:https://igg-online.de/veranstaltung/koranschule-kinder-und-jugendliche-ab-12-jahren/2027-09-04/
LOCATION:IGG Haus 94\, Udersbergstraße 94\, Gießen\, Hessen\, 35394\, Germany
END:VEVENT
BEGIN:VEVENT
DTSTART;TZID=Europe/Berlin:20270904T170000
DTEND;TZID=Europe/Berlin:20270904T180000
DTSTAMP:20260422T063536
CREATED:20250912T103634Z
LAST-MODIFIED:20250912T140657Z
UID:10000626-1820077200-1820080800@igg-online.de
SUMMARY:Fiqh - Unterricht für Frauen\, Mädchen und eventuell Jungs
DESCRIPTION:Die  Veranstaltung  wird vom Cheikh Hammad geleitet.
URL:https://igg-online.de/veranstaltung/fiqh-unterricht-fuer-frauen-maedchen-und-eventuell-jungs/2027-09-04/
LOCATION:IGG Haus 92\, Udersbergstraße 92\, Gießen\, 35394
END:VEVENT
BEGIN:VEVENT
DTSTART;TZID=Europe/Berlin:20270904T180000
DTEND;TZID=Europe/Berlin:20270904T200000
DTSTAMP:20260422T063536
CREATED:20250912T141534Z
LAST-MODIFIED:20250912T141534Z
UID:10000887-1820080800-1820088000@igg-online.de
SUMMARY:Jungendtreff
DESCRIPTION:Die Veranstaltung wird vom Bruder J.C. geleitet.
URL:https://igg-online.de/veranstaltung/jungendtreff/2027-09-04/
LOCATION:IGG Haus 94\, Udersbergstraße 94\, Gießen\, Hessen\, 35394\, Germany
END:VEVENT
BEGIN:VEVENT
DTSTART;TZID=Europe/Berlin:20270905T100000
DTEND;TZID=Europe/Berlin:20270905T140000
DTSTAMP:20260422T063536
CREATED:20250912T141834Z
LAST-MODIFIED:20250912T141834Z
UID:10001148-1820138400-1820152800@igg-online.de
SUMMARY:Kinder Club
DESCRIPTION:Die Arabische Schule wird vom Bruder A.A. geleitet.
URL:https://igg-online.de/veranstaltung/kinder-club/2027-09-05/
LOCATION:Islamische Gemeinde Giessen e.V.\, Udersbergstraße 92 - 94\, Gießen\, 35394
END:VEVENT
END:VCALENDAR