BEGIN:VCALENDAR
VERSION:2.0
PRODID:-//Islamische Gemeinde Giessen e.V. - ECPv6.15.20//NONSGML v1.0//EN
CALSCALE:GREGORIAN
METHOD:PUBLISH
X-ORIGINAL-URL:https://igg-online.de
X-WR-CALDESC:Veranstaltungen für Islamische Gemeinde Giessen e.V.
REFRESH-INTERVAL;VALUE=DURATION:PT1H
X-Robots-Tag:noindex
X-PUBLISHED-TTL:PT1H
BEGIN:VTIMEZONE
TZID:Europe/Berlin
BEGIN:DAYLIGHT
TZOFFSETFROM:+0100
TZOFFSETTO:+0200
TZNAME:CEST
DTSTART:20260329T010000
END:DAYLIGHT
BEGIN:STANDARD
TZOFFSETFROM:+0200
TZOFFSETTO:+0100
TZNAME:CET
DTSTART:20261025T010000
END:STANDARD
BEGIN:DAYLIGHT
TZOFFSETFROM:+0100
TZOFFSETTO:+0200
TZNAME:CEST
DTSTART:20270328T010000
END:DAYLIGHT
BEGIN:STANDARD
TZOFFSETFROM:+0200
TZOFFSETTO:+0100
TZNAME:CET
DTSTART:20271031T010000
END:STANDARD
BEGIN:DAYLIGHT
TZOFFSETFROM:+0100
TZOFFSETTO:+0200
TZNAME:CEST
DTSTART:20280326T010000
END:DAYLIGHT
BEGIN:STANDARD
TZOFFSETFROM:+0200
TZOFFSETTO:+0100
TZNAME:CET
DTSTART:20281029T010000
END:STANDARD
END:VTIMEZONE
BEGIN:VEVENT
DTSTART;TZID=Europe/Berlin:20271205T100000
DTEND;TZID=Europe/Berlin:20271205T140000
DTSTAMP:20260425T124451
CREATED:20250912T141834Z
LAST-MODIFIED:20250912T141834Z
UID:10001161-1828000800-1828015200@igg-online.de
SUMMARY:Kinder Club
DESCRIPTION:Die Arabische Schule wird vom Bruder A.A. geleitet.
URL:https://igg-online.de/veranstaltung/kinder-club/2027-12-05/
LOCATION:Islamische Gemeinde Giessen e.V.\, Udersbergstraße 92 - 94\, Gießen\, 35394
END:VEVENT
BEGIN:VEVENT
DTSTART;TZID=Europe/Berlin:20271205T160000
DTEND;TZID=Europe/Berlin:20271205T170000
DTSTAMP:20260425T124451
CREATED:20251103T133339Z
LAST-MODIFIED:20251103T133339Z
UID:10002230-1828022400-1828026000@igg-online.de
SUMMARY:Arabische Kalligrafie
DESCRIPTION:
URL:https://igg-online.de/veranstaltung/arabische-kalligrafie/2027-12-05/
LOCATION:IGG Haus 94\, Udersbergstraße 94\, Gießen\, Hessen\, 35394\, Germany
ATTACH;FMTTYPE=image/jpeg:https://igg-online.de/wp-content/uploads/2025/11/arabische-kalligrafie.jpeg
END:VEVENT
BEGIN:VEVENT
DTSTART;TZID=Europe/Berlin:20271205T173000
DTEND;TZID=Europe/Berlin:20271205T193000
DTSTAMP:20260425T124451
CREATED:20251103T132850Z
LAST-MODIFIED:20251103T132850Z
UID:10002045-1828027800-1828035000@igg-online.de
SUMMARY:Nasheed Chor für Frauen
DESCRIPTION:
URL:https://igg-online.de/veranstaltung/nasheed-chor-fuer-frauen/2027-12-05/
LOCATION:IGG Haus 92\, Udersbergstraße 92\, Gießen\, 35394
ATTACH;FMTTYPE=image/jpeg:https://igg-online.de/wp-content/uploads/2025/11/nascheed-Chor.jpeg
END:VEVENT
BEGIN:VEVENT
DTSTART;TZID=Europe/Berlin:20271206T180000
DTEND;TZID=Europe/Berlin:20271206T193000
DTSTAMP:20260425T124451
CREATED:20250912T143331Z
LAST-MODIFIED:20250912T143331Z
UID:10001683-1828116000-1828121400@igg-online.de
SUMMARY:Koran-Sitzung (Männer)
DESCRIPTION:Die Koran-Sitzung findet eine Stunde vor dem Maghrib-Gebet statt.\nDie  Sitzung wird vom Cheikh Hammad geleitet.
URL:https://igg-online.de/veranstaltung/koran-sitzung-maenner/2027-12-06/
LOCATION:IGG Haus 94\, Udersbergstraße 94\, Gießen\, Hessen\, 35394\, Germany
END:VEVENT
BEGIN:VEVENT
DTSTART;TZID=Europe/Berlin:20271207T170000
DTEND;TZID=Europe/Berlin:20271207T190000
DTSTAMP:20260425T124451
CREATED:20250912T142400Z
LAST-MODIFIED:20250912T142400Z
UID:10001422-1828198800-1828206000@igg-online.de
SUMMARY:Mädchentreff
DESCRIPTION:Die Veranstaltung wird von den Schwestern J.A. & Ha. geleitet.
URL:https://igg-online.de/veranstaltung/maedchentreff/2027-12-07/
LOCATION:Islamische Gemeinde Giessen e.V.\, Udersbergstraße 92 - 94\, Gießen\, 35394
END:VEVENT
BEGIN:VEVENT
DTSTART;TZID=Europe/Berlin:20271209T200000
DTEND;TZID=Europe/Berlin:20271209T210000
DTSTAMP:20260425T124451
CREATED:20250912T090411Z
LAST-MODIFIED:20250912T140455Z
UID:10000117-1828382400-1828386000@igg-online.de
SUMMARY:Wöchentliche Rezitation des Heiligen Koran
DESCRIPTION:Die Veranstaltung findet online (über Zoom) statt und wird von den Brüdern R.S. & M.S. geleitet.
URL:https://igg-online.de/veranstaltung/woechentliche-rezitation-des-heiligen-koran/2027-12-09/
LOCATION:
END:VEVENT
BEGIN:VEVENT
DTSTART;TZID=Europe/Berlin:20271211T093000
DTEND;TZID=Europe/Berlin:20271211T110000
DTSTAMP:20260425T124451
CREATED:20250912T092137Z
LAST-MODIFIED:20250912T140631Z
UID:10000379-1828517400-1828522800@igg-online.de
SUMMARY:Koranunterricht für Frauen und Mädchen
DESCRIPTION:Die Veranstaltung wird von den Schwestern D.J. & D.J. geleitet.
URL:https://igg-online.de/veranstaltung/koranunterricht-fuer-frauen-und-maedchen/2027-12-11/
LOCATION:IGG Haus 92\, Udersbergstraße 92\, Gießen\, 35394
END:VEVENT
BEGIN:VEVENT
DTSTART;TZID=Europe/Berlin:20271211T100000
DTEND;TZID=Europe/Berlin:20271211T120000
DTSTAMP:20260425T124451
CREATED:20251218T195835Z
LAST-MODIFIED:20251218T195835Z
UID:10002565-1828519200-1828526400@igg-online.de
SUMMARY:Koranschule: Kinder im Alter von 6 bis 11 Jahren
DESCRIPTION:Unterrichtszeiten und Altersgruppen\n\nSamstag\, 10:00–12:00 Uhr: Kinder im Alter von 6 bis 11 Jahren\n\nUnterrichtsinhalte\n\nKoranrezitation (Tadschwīd) und korrekte Aussprache\nAuswendiglernen ausgewählter Suren entsprechend der Altersstufe\nVermittlung der täglichen Bittgebete und Adhkār\nFörderung islamischer Werte wie Respekt\, Verantwortung und Gemeinschaftssinn\nPädagogisch begleitete\, altersgerechte Freizeitaktivitäten\n\nKosten\nDer monatliche Beitrag beträgt 20\,00 € pro Kind. \nKontakt und Anmeldung\nFür Rückfragen sowie zur Anmeldung wenden Sie sich bitte an: \nBruder Abou Ouael Telefon: +49 176 70067004 \nKoranschule – Anmeldeformular
URL:https://igg-online.de/veranstaltung/koranschule-kinder-im-alter-von-6-bis-11-jahren/2027-12-11/
LOCATION:IGG Haus 94\, Udersbergstraße 94\, Gießen\, Hessen\, 35394\, Germany
END:VEVENT
BEGIN:VEVENT
DTSTART;TZID=Europe/Berlin:20271211T120000
DTEND;TZID=Europe/Berlin:20271211T143000
DTSTAMP:20260425T124451
CREATED:20251218T200227Z
LAST-MODIFIED:20251218T200227Z
UID:10002826-1828526400-1828535400@igg-online.de
SUMMARY:Koranschule: Kinder und Jugendliche ab 12 Jahren
DESCRIPTION:Unterrichtszeiten und Altersgruppen\n\nSamstag\, 12:00–14:30 Uhr: Kinder und Jugendliche ab 12 Jahren\n\nUnterrichtsinhalte\n\nKoranrezitation (Tadschwīd) und korrekte Aussprache\nAuswendiglernen ausgewählter Suren entsprechend der Altersstufe\nVermittlung der täglichen Bittgebete und Adhkār\nFörderung islamischer Werte wie Respekt\, Verantwortung und Gemeinschaftssinn\nPädagogisch begleitete\, altersgerechte Freizeitaktivitäten\n\nKosten\nDer monatliche Beitrag beträgt 20\,00 € pro Kind. \nKontakt und Anmeldung\nFür Rückfragen sowie zur Anmeldung wenden Sie sich bitte an: \nBruder Abou Ouael Telefon: +49 176 70067004 \nKoranschule – Anmeldeformular
URL:https://igg-online.de/veranstaltung/koranschule-kinder-und-jugendliche-ab-12-jahren/2027-12-11/
LOCATION:IGG Haus 94\, Udersbergstraße 94\, Gießen\, Hessen\, 35394\, Germany
END:VEVENT
BEGIN:VEVENT
DTSTART;TZID=Europe/Berlin:20271211T170000
DTEND;TZID=Europe/Berlin:20271211T180000
DTSTAMP:20260425T124451
CREATED:20250912T103634Z
LAST-MODIFIED:20250912T140657Z
UID:10000640-1828544400-1828548000@igg-online.de
SUMMARY:Fiqh - Unterricht für Frauen\, Mädchen und eventuell Jungs
DESCRIPTION:Die  Veranstaltung  wird vom Cheikh Hammad geleitet.
URL:https://igg-online.de/veranstaltung/fiqh-unterricht-fuer-frauen-maedchen-und-eventuell-jungs/2027-12-11/
LOCATION:IGG Haus 92\, Udersbergstraße 92\, Gießen\, 35394
END:VEVENT
BEGIN:VEVENT
DTSTART;TZID=Europe/Berlin:20271211T180000
DTEND;TZID=Europe/Berlin:20271211T200000
DTSTAMP:20260425T124451
CREATED:20250912T141534Z
LAST-MODIFIED:20250912T141534Z
UID:10000901-1828548000-1828555200@igg-online.de
SUMMARY:Jungendtreff
DESCRIPTION:Die Veranstaltung wird vom Bruder J.C. geleitet.
URL:https://igg-online.de/veranstaltung/jungendtreff/2027-12-11/
LOCATION:IGG Haus 94\, Udersbergstraße 94\, Gießen\, Hessen\, 35394\, Germany
END:VEVENT
BEGIN:VEVENT
DTSTART;TZID=Europe/Berlin:20271212T100000
DTEND;TZID=Europe/Berlin:20271212T140000
DTSTAMP:20260425T124451
CREATED:20250912T141834Z
LAST-MODIFIED:20250912T141834Z
UID:10001162-1828605600-1828620000@igg-online.de
SUMMARY:Kinder Club
DESCRIPTION:Die Arabische Schule wird vom Bruder A.A. geleitet.
URL:https://igg-online.de/veranstaltung/kinder-club/2027-12-12/
LOCATION:Islamische Gemeinde Giessen e.V.\, Udersbergstraße 92 - 94\, Gießen\, 35394
END:VEVENT
BEGIN:VEVENT
DTSTART;TZID=Europe/Berlin:20271212T160000
DTEND;TZID=Europe/Berlin:20271212T170000
DTSTAMP:20260425T124451
CREATED:20251103T133339Z
LAST-MODIFIED:20251103T133339Z
UID:10002231-1828627200-1828630800@igg-online.de
SUMMARY:Arabische Kalligrafie
DESCRIPTION:
URL:https://igg-online.de/veranstaltung/arabische-kalligrafie/2027-12-12/
LOCATION:IGG Haus 94\, Udersbergstraße 94\, Gießen\, Hessen\, 35394\, Germany
ATTACH;FMTTYPE=image/jpeg:https://igg-online.de/wp-content/uploads/2025/11/arabische-kalligrafie.jpeg
END:VEVENT
BEGIN:VEVENT
DTSTART;TZID=Europe/Berlin:20271213T180000
DTEND;TZID=Europe/Berlin:20271213T193000
DTSTAMP:20260425T124451
CREATED:20250912T143331Z
LAST-MODIFIED:20250912T143331Z
UID:10001684-1828720800-1828726200@igg-online.de
SUMMARY:Koran-Sitzung (Männer)
DESCRIPTION:Die Koran-Sitzung findet eine Stunde vor dem Maghrib-Gebet statt.\nDie  Sitzung wird vom Cheikh Hammad geleitet.
URL:https://igg-online.de/veranstaltung/koran-sitzung-maenner/2027-12-13/
LOCATION:IGG Haus 94\, Udersbergstraße 94\, Gießen\, Hessen\, 35394\, Germany
END:VEVENT
BEGIN:VEVENT
DTSTART;TZID=Europe/Berlin:20271214T170000
DTEND;TZID=Europe/Berlin:20271214T190000
DTSTAMP:20260425T124451
CREATED:20250912T142400Z
LAST-MODIFIED:20250912T142400Z
UID:10001423-1828803600-1828810800@igg-online.de
SUMMARY:Mädchentreff
DESCRIPTION:Die Veranstaltung wird von den Schwestern J.A. & Ha. geleitet.
URL:https://igg-online.de/veranstaltung/maedchentreff/2027-12-14/
LOCATION:Islamische Gemeinde Giessen e.V.\, Udersbergstraße 92 - 94\, Gießen\, 35394
END:VEVENT
BEGIN:VEVENT
DTSTART;TZID=Europe/Berlin:20271216T200000
DTEND;TZID=Europe/Berlin:20271216T210000
DTSTAMP:20260425T124451
CREATED:20250912T090411Z
LAST-MODIFIED:20250912T140455Z
UID:10000118-1828987200-1828990800@igg-online.de
SUMMARY:Wöchentliche Rezitation des Heiligen Koran
DESCRIPTION:Die Veranstaltung findet online (über Zoom) statt und wird von den Brüdern R.S. & M.S. geleitet.
URL:https://igg-online.de/veranstaltung/woechentliche-rezitation-des-heiligen-koran/2027-12-16/
LOCATION:
END:VEVENT
BEGIN:VEVENT
DTSTART;TZID=Europe/Berlin:20271218T093000
DTEND;TZID=Europe/Berlin:20271218T110000
DTSTAMP:20260425T124451
CREATED:20250912T092137Z
LAST-MODIFIED:20250912T140631Z
UID:10000380-1829122200-1829127600@igg-online.de
SUMMARY:Koranunterricht für Frauen und Mädchen
DESCRIPTION:Die Veranstaltung wird von den Schwestern D.J. & D.J. geleitet.
URL:https://igg-online.de/veranstaltung/koranunterricht-fuer-frauen-und-maedchen/2027-12-18/
LOCATION:IGG Haus 92\, Udersbergstraße 92\, Gießen\, 35394
END:VEVENT
BEGIN:VEVENT
DTSTART;TZID=Europe/Berlin:20271218T100000
DTEND;TZID=Europe/Berlin:20271218T120000
DTSTAMP:20260425T124451
CREATED:20251218T195835Z
LAST-MODIFIED:20251218T195835Z
UID:10002566-1829124000-1829131200@igg-online.de
SUMMARY:Koranschule: Kinder im Alter von 6 bis 11 Jahren
DESCRIPTION:Unterrichtszeiten und Altersgruppen\n\nSamstag\, 10:00–12:00 Uhr: Kinder im Alter von 6 bis 11 Jahren\n\nUnterrichtsinhalte\n\nKoranrezitation (Tadschwīd) und korrekte Aussprache\nAuswendiglernen ausgewählter Suren entsprechend der Altersstufe\nVermittlung der täglichen Bittgebete und Adhkār\nFörderung islamischer Werte wie Respekt\, Verantwortung und Gemeinschaftssinn\nPädagogisch begleitete\, altersgerechte Freizeitaktivitäten\n\nKosten\nDer monatliche Beitrag beträgt 20\,00 € pro Kind. \nKontakt und Anmeldung\nFür Rückfragen sowie zur Anmeldung wenden Sie sich bitte an: \nBruder Abou Ouael Telefon: +49 176 70067004 \nKoranschule – Anmeldeformular
URL:https://igg-online.de/veranstaltung/koranschule-kinder-im-alter-von-6-bis-11-jahren/2027-12-18/
LOCATION:IGG Haus 94\, Udersbergstraße 94\, Gießen\, Hessen\, 35394\, Germany
END:VEVENT
BEGIN:VEVENT
DTSTART;TZID=Europe/Berlin:20271218T120000
DTEND;TZID=Europe/Berlin:20271218T143000
DTSTAMP:20260425T124451
CREATED:20251218T200227Z
LAST-MODIFIED:20251218T200227Z
UID:10002827-1829131200-1829140200@igg-online.de
SUMMARY:Koranschule: Kinder und Jugendliche ab 12 Jahren
DESCRIPTION:Unterrichtszeiten und Altersgruppen\n\nSamstag\, 12:00–14:30 Uhr: Kinder und Jugendliche ab 12 Jahren\n\nUnterrichtsinhalte\n\nKoranrezitation (Tadschwīd) und korrekte Aussprache\nAuswendiglernen ausgewählter Suren entsprechend der Altersstufe\nVermittlung der täglichen Bittgebete und Adhkār\nFörderung islamischer Werte wie Respekt\, Verantwortung und Gemeinschaftssinn\nPädagogisch begleitete\, altersgerechte Freizeitaktivitäten\n\nKosten\nDer monatliche Beitrag beträgt 20\,00 € pro Kind. \nKontakt und Anmeldung\nFür Rückfragen sowie zur Anmeldung wenden Sie sich bitte an: \nBruder Abou Ouael Telefon: +49 176 70067004 \nKoranschule – Anmeldeformular
URL:https://igg-online.de/veranstaltung/koranschule-kinder-und-jugendliche-ab-12-jahren/2027-12-18/
LOCATION:IGG Haus 94\, Udersbergstraße 94\, Gießen\, Hessen\, 35394\, Germany
END:VEVENT
BEGIN:VEVENT
DTSTART;TZID=Europe/Berlin:20271218T170000
DTEND;TZID=Europe/Berlin:20271218T180000
DTSTAMP:20260425T124451
CREATED:20250912T103634Z
LAST-MODIFIED:20250912T140657Z
UID:10000641-1829149200-1829152800@igg-online.de
SUMMARY:Fiqh - Unterricht für Frauen\, Mädchen und eventuell Jungs
DESCRIPTION:Die  Veranstaltung  wird vom Cheikh Hammad geleitet.
URL:https://igg-online.de/veranstaltung/fiqh-unterricht-fuer-frauen-maedchen-und-eventuell-jungs/2027-12-18/
LOCATION:IGG Haus 92\, Udersbergstraße 92\, Gießen\, 35394
END:VEVENT
BEGIN:VEVENT
DTSTART;TZID=Europe/Berlin:20271218T180000
DTEND;TZID=Europe/Berlin:20271218T200000
DTSTAMP:20260425T124451
CREATED:20250912T141534Z
LAST-MODIFIED:20250912T141534Z
UID:10000902-1829152800-1829160000@igg-online.de
SUMMARY:Jungendtreff
DESCRIPTION:Die Veranstaltung wird vom Bruder J.C. geleitet.
URL:https://igg-online.de/veranstaltung/jungendtreff/2027-12-18/
LOCATION:IGG Haus 94\, Udersbergstraße 94\, Gießen\, Hessen\, 35394\, Germany
END:VEVENT
BEGIN:VEVENT
DTSTART;TZID=Europe/Berlin:20271219T100000
DTEND;TZID=Europe/Berlin:20271219T140000
DTSTAMP:20260425T124451
CREATED:20250912T141834Z
LAST-MODIFIED:20250912T141834Z
UID:10001163-1829210400-1829224800@igg-online.de
SUMMARY:Kinder Club
DESCRIPTION:Die Arabische Schule wird vom Bruder A.A. geleitet.
URL:https://igg-online.de/veranstaltung/kinder-club/2027-12-19/
LOCATION:Islamische Gemeinde Giessen e.V.\, Udersbergstraße 92 - 94\, Gießen\, 35394
END:VEVENT
BEGIN:VEVENT
DTSTART;TZID=Europe/Berlin:20271219T160000
DTEND;TZID=Europe/Berlin:20271219T170000
DTSTAMP:20260425T124451
CREATED:20251103T133339Z
LAST-MODIFIED:20251103T133339Z
UID:10002232-1829232000-1829235600@igg-online.de
SUMMARY:Arabische Kalligrafie
DESCRIPTION:
URL:https://igg-online.de/veranstaltung/arabische-kalligrafie/2027-12-19/
LOCATION:IGG Haus 94\, Udersbergstraße 94\, Gießen\, Hessen\, 35394\, Germany
ATTACH;FMTTYPE=image/jpeg:https://igg-online.de/wp-content/uploads/2025/11/arabische-kalligrafie.jpeg
END:VEVENT
BEGIN:VEVENT
DTSTART;TZID=Europe/Berlin:20271219T173000
DTEND;TZID=Europe/Berlin:20271219T193000
DTSTAMP:20260425T124451
CREATED:20251103T132850Z
LAST-MODIFIED:20251103T132850Z
UID:10002046-1829237400-1829244600@igg-online.de
SUMMARY:Nasheed Chor für Frauen
DESCRIPTION:
URL:https://igg-online.de/veranstaltung/nasheed-chor-fuer-frauen/2027-12-19/
LOCATION:IGG Haus 92\, Udersbergstraße 92\, Gießen\, 35394
ATTACH;FMTTYPE=image/jpeg:https://igg-online.de/wp-content/uploads/2025/11/nascheed-Chor.jpeg
END:VEVENT
BEGIN:VEVENT
DTSTART;TZID=Europe/Berlin:20271220T180000
DTEND;TZID=Europe/Berlin:20271220T193000
DTSTAMP:20260425T124451
CREATED:20250912T143331Z
LAST-MODIFIED:20250912T143331Z
UID:10001685-1829325600-1829331000@igg-online.de
SUMMARY:Koran-Sitzung (Männer)
DESCRIPTION:Die Koran-Sitzung findet eine Stunde vor dem Maghrib-Gebet statt.\nDie  Sitzung wird vom Cheikh Hammad geleitet.
URL:https://igg-online.de/veranstaltung/koran-sitzung-maenner/2027-12-20/
LOCATION:IGG Haus 94\, Udersbergstraße 94\, Gießen\, Hessen\, 35394\, Germany
END:VEVENT
BEGIN:VEVENT
DTSTART;TZID=Europe/Berlin:20271221T170000
DTEND;TZID=Europe/Berlin:20271221T190000
DTSTAMP:20260425T124451
CREATED:20250912T142400Z
LAST-MODIFIED:20250912T142400Z
UID:10001424-1829408400-1829415600@igg-online.de
SUMMARY:Mädchentreff
DESCRIPTION:Die Veranstaltung wird von den Schwestern J.A. & Ha. geleitet.
URL:https://igg-online.de/veranstaltung/maedchentreff/2027-12-21/
LOCATION:Islamische Gemeinde Giessen e.V.\, Udersbergstraße 92 - 94\, Gießen\, 35394
END:VEVENT
BEGIN:VEVENT
DTSTART;TZID=Europe/Berlin:20271223T200000
DTEND;TZID=Europe/Berlin:20271223T210000
DTSTAMP:20260425T124451
CREATED:20250912T090411Z
LAST-MODIFIED:20250912T140455Z
UID:10000119-1829592000-1829595600@igg-online.de
SUMMARY:Wöchentliche Rezitation des Heiligen Koran
DESCRIPTION:Die Veranstaltung findet online (über Zoom) statt und wird von den Brüdern R.S. & M.S. geleitet.
URL:https://igg-online.de/veranstaltung/woechentliche-rezitation-des-heiligen-koran/2027-12-23/
LOCATION:
END:VEVENT
BEGIN:VEVENT
DTSTART;TZID=Europe/Berlin:20271225T093000
DTEND;TZID=Europe/Berlin:20271225T110000
DTSTAMP:20260425T124451
CREATED:20250912T092137Z
LAST-MODIFIED:20250912T140631Z
UID:10000381-1829727000-1829732400@igg-online.de
SUMMARY:Koranunterricht für Frauen und Mädchen
DESCRIPTION:Die Veranstaltung wird von den Schwestern D.J. & D.J. geleitet.
URL:https://igg-online.de/veranstaltung/koranunterricht-fuer-frauen-und-maedchen/2027-12-25/
LOCATION:IGG Haus 92\, Udersbergstraße 92\, Gießen\, 35394
END:VEVENT
BEGIN:VEVENT
DTSTART;TZID=Europe/Berlin:20271225T100000
DTEND;TZID=Europe/Berlin:20271225T120000
DTSTAMP:20260425T124451
CREATED:20251218T195835Z
LAST-MODIFIED:20251218T195835Z
UID:10002567-1829728800-1829736000@igg-online.de
SUMMARY:Koranschule: Kinder im Alter von 6 bis 11 Jahren
DESCRIPTION:Unterrichtszeiten und Altersgruppen\n\nSamstag\, 10:00–12:00 Uhr: Kinder im Alter von 6 bis 11 Jahren\n\nUnterrichtsinhalte\n\nKoranrezitation (Tadschwīd) und korrekte Aussprache\nAuswendiglernen ausgewählter Suren entsprechend der Altersstufe\nVermittlung der täglichen Bittgebete und Adhkār\nFörderung islamischer Werte wie Respekt\, Verantwortung und Gemeinschaftssinn\nPädagogisch begleitete\, altersgerechte Freizeitaktivitäten\n\nKosten\nDer monatliche Beitrag beträgt 20\,00 € pro Kind. \nKontakt und Anmeldung\nFür Rückfragen sowie zur Anmeldung wenden Sie sich bitte an: \nBruder Abou Ouael Telefon: +49 176 70067004 \nKoranschule – Anmeldeformular
URL:https://igg-online.de/veranstaltung/koranschule-kinder-im-alter-von-6-bis-11-jahren/2027-12-25/
LOCATION:IGG Haus 94\, Udersbergstraße 94\, Gießen\, Hessen\, 35394\, Germany
END:VEVENT
BEGIN:VEVENT
DTSTART;TZID=Europe/Berlin:20271225T120000
DTEND;TZID=Europe/Berlin:20271225T143000
DTSTAMP:20260425T124451
CREATED:20251218T200227Z
LAST-MODIFIED:20251218T200227Z
UID:10002828-1829736000-1829745000@igg-online.de
SUMMARY:Koranschule: Kinder und Jugendliche ab 12 Jahren
DESCRIPTION:Unterrichtszeiten und Altersgruppen\n\nSamstag\, 12:00–14:30 Uhr: Kinder und Jugendliche ab 12 Jahren\n\nUnterrichtsinhalte\n\nKoranrezitation (Tadschwīd) und korrekte Aussprache\nAuswendiglernen ausgewählter Suren entsprechend der Altersstufe\nVermittlung der täglichen Bittgebete und Adhkār\nFörderung islamischer Werte wie Respekt\, Verantwortung und Gemeinschaftssinn\nPädagogisch begleitete\, altersgerechte Freizeitaktivitäten\n\nKosten\nDer monatliche Beitrag beträgt 20\,00 € pro Kind. \nKontakt und Anmeldung\nFür Rückfragen sowie zur Anmeldung wenden Sie sich bitte an: \nBruder Abou Ouael Telefon: +49 176 70067004 \nKoranschule – Anmeldeformular
URL:https://igg-online.de/veranstaltung/koranschule-kinder-und-jugendliche-ab-12-jahren/2027-12-25/
LOCATION:IGG Haus 94\, Udersbergstraße 94\, Gießen\, Hessen\, 35394\, Germany
END:VEVENT
END:VCALENDAR