BEGIN:VCALENDAR
VERSION:2.0
PRODID:-//Islamische Gemeinde Giessen e.V. - ECPv6.15.20//NONSGML v1.0//EN
CALSCALE:GREGORIAN
METHOD:PUBLISH
X-WR-CALNAME:Islamische Gemeinde Giessen e.V.
X-ORIGINAL-URL:https://igg-online.de
X-WR-CALDESC:Veranstaltungen für Islamische Gemeinde Giessen e.V.
REFRESH-INTERVAL;VALUE=DURATION:PT1H
X-Robots-Tag:noindex
X-PUBLISHED-TTL:PT1H
BEGIN:VTIMEZONE
TZID:Europe/Berlin
BEGIN:DAYLIGHT
TZOFFSETFROM:+0100
TZOFFSETTO:+0200
TZNAME:CEST
DTSTART:20250330T010000
END:DAYLIGHT
BEGIN:STANDARD
TZOFFSETFROM:+0200
TZOFFSETTO:+0100
TZNAME:CET
DTSTART:20251026T010000
END:STANDARD
BEGIN:DAYLIGHT
TZOFFSETFROM:+0100
TZOFFSETTO:+0200
TZNAME:CEST
DTSTART:20260329T010000
END:DAYLIGHT
BEGIN:STANDARD
TZOFFSETFROM:+0200
TZOFFSETTO:+0100
TZNAME:CET
DTSTART:20261025T010000
END:STANDARD
BEGIN:DAYLIGHT
TZOFFSETFROM:+0100
TZOFFSETTO:+0200
TZNAME:CEST
DTSTART:20270328T010000
END:DAYLIGHT
BEGIN:STANDARD
TZOFFSETFROM:+0200
TZOFFSETTO:+0100
TZNAME:CET
DTSTART:20271031T010000
END:STANDARD
END:VTIMEZONE
BEGIN:VEVENT
DTSTART;TZID=Europe/Berlin:20260124T120000
DTEND;TZID=Europe/Berlin:20260124T143000
DTSTAMP:20260424T172643
CREATED:20251218T200227Z
LAST-MODIFIED:20251218T200227Z
UID:10002728-1769256000-1769265000@igg-online.de
SUMMARY:Koranschule: Kinder und Jugendliche ab 12 Jahren
DESCRIPTION:Unterrichtszeiten und Altersgruppen\n\nSamstag\, 12:00–14:30 Uhr: Kinder und Jugendliche ab 12 Jahren\n\nUnterrichtsinhalte\n\nKoranrezitation (Tadschwīd) und korrekte Aussprache\nAuswendiglernen ausgewählter Suren entsprechend der Altersstufe\nVermittlung der täglichen Bittgebete und Adhkār\nFörderung islamischer Werte wie Respekt\, Verantwortung und Gemeinschaftssinn\nPädagogisch begleitete\, altersgerechte Freizeitaktivitäten\n\nKosten\nDer monatliche Beitrag beträgt 20\,00 € pro Kind. \nKontakt und Anmeldung\nFür Rückfragen sowie zur Anmeldung wenden Sie sich bitte an: \nBruder Abou Ouael Telefon: +49 176 70067004 \nKoranschule – Anmeldeformular
URL:https://igg-online.de/veranstaltung/koranschule-kinder-und-jugendliche-ab-12-jahren/2026-01-24/
LOCATION:IGG Haus 94\, Udersbergstraße 94\, Gießen\, Hessen\, 35394\, Germany
END:VEVENT
END:VCALENDAR