BEGIN:VCALENDAR
VERSION:2.0
PRODID:-//Islamische Gemeinde Giessen e.V. - ECPv6.15.20//NONSGML v1.0//EN
CALSCALE:GREGORIAN
METHOD:PUBLISH
X-WR-CALNAME:Islamische Gemeinde Giessen e.V.
X-ORIGINAL-URL:https://igg-online.de
X-WR-CALDESC:Veranstaltungen für Islamische Gemeinde Giessen e.V.
REFRESH-INTERVAL;VALUE=DURATION:PT1H
X-Robots-Tag:noindex
X-PUBLISHED-TTL:PT1H
BEGIN:VTIMEZONE
TZID:Europe/Berlin
BEGIN:DAYLIGHT
TZOFFSETFROM:+0100
TZOFFSETTO:+0200
TZNAME:CEST
DTSTART:20270328T010000
END:DAYLIGHT
BEGIN:STANDARD
TZOFFSETFROM:+0200
TZOFFSETTO:+0100
TZNAME:CET
DTSTART:20271031T010000
END:STANDARD
BEGIN:DAYLIGHT
TZOFFSETFROM:+0100
TZOFFSETTO:+0200
TZNAME:CEST
DTSTART:20280326T010000
END:DAYLIGHT
BEGIN:STANDARD
TZOFFSETFROM:+0200
TZOFFSETTO:+0100
TZNAME:CET
DTSTART:20281029T010000
END:STANDARD
BEGIN:DAYLIGHT
TZOFFSETFROM:+0100
TZOFFSETTO:+0200
TZNAME:CEST
DTSTART:20290325T010000
END:DAYLIGHT
BEGIN:STANDARD
TZOFFSETFROM:+0200
TZOFFSETTO:+0100
TZNAME:CET
DTSTART:20291028T010000
END:STANDARD
END:VTIMEZONE
BEGIN:VEVENT
DTSTART;TZID=Europe/Berlin:20280910T173000
DTEND;TZID=Europe/Berlin:20280910T193000
DTSTAMP:20260425T161304
CREATED:20251103T132850Z
LAST-MODIFIED:20251103T132850Z
UID:10002065-1852219800-1852227000@igg-online.de
SUMMARY:Nasheed Chor für Frauen
DESCRIPTION:
URL:https://igg-online.de/veranstaltung/nasheed-chor-fuer-frauen/2028-09-10/
LOCATION:IGG Haus 92\, Udersbergstraße 92\, Gießen\, 35394
ATTACH;FMTTYPE=image/jpeg:https://igg-online.de/wp-content/uploads/2025/11/nascheed-Chor.jpeg
END:VEVENT
BEGIN:VEVENT
DTSTART;TZID=Europe/Berlin:20280911T180000
DTEND;TZID=Europe/Berlin:20280911T193000
DTSTAMP:20260425T161304
CREATED:20250912T143331Z
LAST-MODIFIED:20250912T143331Z
UID:10001723-1852308000-1852313400@igg-online.de
SUMMARY:Koran-Sitzung (Männer)
DESCRIPTION:Die Koran-Sitzung findet eine Stunde vor dem Maghrib-Gebet statt.\nDie  Sitzung wird vom Cheikh Hammad geleitet.
URL:https://igg-online.de/veranstaltung/koran-sitzung-maenner/2028-09-11/
LOCATION:IGG Haus 94\, Udersbergstraße 94\, Gießen\, Hessen\, 35394\, Germany
END:VEVENT
BEGIN:VEVENT
DTSTART;TZID=Europe/Berlin:20280912T170000
DTEND;TZID=Europe/Berlin:20280912T190000
DTSTAMP:20260425T161304
CREATED:20250912T142400Z
LAST-MODIFIED:20250912T142400Z
UID:10001462-1852390800-1852398000@igg-online.de
SUMMARY:Mädchentreff
DESCRIPTION:Die Veranstaltung wird von den Schwestern J.A. & Ha. geleitet.
URL:https://igg-online.de/veranstaltung/maedchentreff/2028-09-12/
LOCATION:Islamische Gemeinde Giessen e.V.\, Udersbergstraße 92 - 94\, Gießen\, 35394
END:VEVENT
BEGIN:VEVENT
DTSTART;TZID=Europe/Berlin:20280914T200000
DTEND;TZID=Europe/Berlin:20280914T210000
DTSTAMP:20260425T161304
CREATED:20250912T090411Z
LAST-MODIFIED:20250912T140455Z
UID:10000157-1852574400-1852578000@igg-online.de
SUMMARY:Wöchentliche Rezitation des Heiligen Koran
DESCRIPTION:Die Veranstaltung findet online (über Zoom) statt und wird von den Brüdern R.S. & M.S. geleitet.
URL:https://igg-online.de/veranstaltung/woechentliche-rezitation-des-heiligen-koran/2028-09-14/
LOCATION:
END:VEVENT
BEGIN:VEVENT
DTSTART;TZID=Europe/Berlin:20280916T093000
DTEND;TZID=Europe/Berlin:20280916T110000
DTSTAMP:20260425T161304
CREATED:20250912T092137Z
LAST-MODIFIED:20250912T140631Z
UID:10000419-1852709400-1852714800@igg-online.de
SUMMARY:Koranunterricht für Frauen und Mädchen
DESCRIPTION:Die Veranstaltung wird von den Schwestern D.J. & D.J. geleitet.
URL:https://igg-online.de/veranstaltung/koranunterricht-fuer-frauen-und-maedchen/2028-09-16/
LOCATION:IGG Haus 92\, Udersbergstraße 92\, Gießen\, 35394
END:VEVENT
BEGIN:VEVENT
DTSTART;TZID=Europe/Berlin:20280916T100000
DTEND;TZID=Europe/Berlin:20280916T120000
DTSTAMP:20260425T161304
CREATED:20251218T195835Z
LAST-MODIFIED:20251218T195835Z
UID:10002605-1852711200-1852718400@igg-online.de
SUMMARY:Koranschule: Kinder im Alter von 6 bis 11 Jahren
DESCRIPTION:Unterrichtszeiten und Altersgruppen\n\nSamstag\, 10:00–12:00 Uhr: Kinder im Alter von 6 bis 11 Jahren\n\nUnterrichtsinhalte\n\nKoranrezitation (Tadschwīd) und korrekte Aussprache\nAuswendiglernen ausgewählter Suren entsprechend der Altersstufe\nVermittlung der täglichen Bittgebete und Adhkār\nFörderung islamischer Werte wie Respekt\, Verantwortung und Gemeinschaftssinn\nPädagogisch begleitete\, altersgerechte Freizeitaktivitäten\n\nKosten\nDer monatliche Beitrag beträgt 20\,00 € pro Kind. \nKontakt und Anmeldung\nFür Rückfragen sowie zur Anmeldung wenden Sie sich bitte an: \nBruder Abou Ouael Telefon: +49 176 70067004 \nKoranschule – Anmeldeformular
URL:https://igg-online.de/veranstaltung/koranschule-kinder-im-alter-von-6-bis-11-jahren/2028-09-16/
LOCATION:IGG Haus 94\, Udersbergstraße 94\, Gießen\, Hessen\, 35394\, Germany
END:VEVENT
BEGIN:VEVENT
DTSTART;TZID=Europe/Berlin:20280916T120000
DTEND;TZID=Europe/Berlin:20280916T143000
DTSTAMP:20260425T161304
CREATED:20251218T200227Z
LAST-MODIFIED:20251218T200227Z
UID:10002866-1852718400-1852727400@igg-online.de
SUMMARY:Koranschule: Kinder und Jugendliche ab 12 Jahren
DESCRIPTION:Unterrichtszeiten und Altersgruppen\n\nSamstag\, 12:00–14:30 Uhr: Kinder und Jugendliche ab 12 Jahren\n\nUnterrichtsinhalte\n\nKoranrezitation (Tadschwīd) und korrekte Aussprache\nAuswendiglernen ausgewählter Suren entsprechend der Altersstufe\nVermittlung der täglichen Bittgebete und Adhkār\nFörderung islamischer Werte wie Respekt\, Verantwortung und Gemeinschaftssinn\nPädagogisch begleitete\, altersgerechte Freizeitaktivitäten\n\nKosten\nDer monatliche Beitrag beträgt 20\,00 € pro Kind. \nKontakt und Anmeldung\nFür Rückfragen sowie zur Anmeldung wenden Sie sich bitte an: \nBruder Abou Ouael Telefon: +49 176 70067004 \nKoranschule – Anmeldeformular
URL:https://igg-online.de/veranstaltung/koranschule-kinder-und-jugendliche-ab-12-jahren/2028-09-16/
LOCATION:IGG Haus 94\, Udersbergstraße 94\, Gießen\, Hessen\, 35394\, Germany
END:VEVENT
BEGIN:VEVENT
DTSTART;TZID=Europe/Berlin:20280916T170000
DTEND;TZID=Europe/Berlin:20280916T180000
DTSTAMP:20260425T161304
CREATED:20250912T103634Z
LAST-MODIFIED:20250912T140657Z
UID:10000680-1852736400-1852740000@igg-online.de
SUMMARY:Fiqh - Unterricht für Frauen\, Mädchen und eventuell Jungs
DESCRIPTION:Die  Veranstaltung  wird vom Cheikh Hammad geleitet.
URL:https://igg-online.de/veranstaltung/fiqh-unterricht-fuer-frauen-maedchen-und-eventuell-jungs/2028-09-16/
LOCATION:IGG Haus 92\, Udersbergstraße 92\, Gießen\, 35394
END:VEVENT
BEGIN:VEVENT
DTSTART;TZID=Europe/Berlin:20280916T180000
DTEND;TZID=Europe/Berlin:20280916T200000
DTSTAMP:20260425T161304
CREATED:20250912T141534Z
LAST-MODIFIED:20250912T141534Z
UID:10000941-1852740000-1852747200@igg-online.de
SUMMARY:Jungendtreff
DESCRIPTION:Die Veranstaltung wird vom Bruder J.C. geleitet.
URL:https://igg-online.de/veranstaltung/jungendtreff/2028-09-16/
LOCATION:IGG Haus 94\, Udersbergstraße 94\, Gießen\, Hessen\, 35394\, Germany
END:VEVENT
BEGIN:VEVENT
DTSTART;TZID=Europe/Berlin:20280917T100000
DTEND;TZID=Europe/Berlin:20280917T140000
DTSTAMP:20260425T161304
CREATED:20250912T141834Z
LAST-MODIFIED:20250912T141834Z
UID:10001202-1852797600-1852812000@igg-online.de
SUMMARY:Kinder Club
DESCRIPTION:Die Arabische Schule wird vom Bruder A.A. geleitet.
URL:https://igg-online.de/veranstaltung/kinder-club/2028-09-17/
LOCATION:Islamische Gemeinde Giessen e.V.\, Udersbergstraße 92 - 94\, Gießen\, 35394
END:VEVENT
BEGIN:VEVENT
DTSTART;TZID=Europe/Berlin:20280917T160000
DTEND;TZID=Europe/Berlin:20280917T170000
DTSTAMP:20260425T161304
CREATED:20251103T133339Z
LAST-MODIFIED:20251103T133339Z
UID:10002271-1852819200-1852822800@igg-online.de
SUMMARY:Arabische Kalligrafie
DESCRIPTION:
URL:https://igg-online.de/veranstaltung/arabische-kalligrafie/2028-09-17/
LOCATION:IGG Haus 94\, Udersbergstraße 94\, Gießen\, Hessen\, 35394\, Germany
ATTACH;FMTTYPE=image/jpeg:https://igg-online.de/wp-content/uploads/2025/11/arabische-kalligrafie.jpeg
END:VEVENT
BEGIN:VEVENT
DTSTART;TZID=Europe/Berlin:20280918T180000
DTEND;TZID=Europe/Berlin:20280918T193000
DTSTAMP:20260425T161304
CREATED:20250912T143331Z
LAST-MODIFIED:20250912T143331Z
UID:10001724-1852912800-1852918200@igg-online.de
SUMMARY:Koran-Sitzung (Männer)
DESCRIPTION:Die Koran-Sitzung findet eine Stunde vor dem Maghrib-Gebet statt.\nDie  Sitzung wird vom Cheikh Hammad geleitet.
URL:https://igg-online.de/veranstaltung/koran-sitzung-maenner/2028-09-18/
LOCATION:IGG Haus 94\, Udersbergstraße 94\, Gießen\, Hessen\, 35394\, Germany
END:VEVENT
BEGIN:VEVENT
DTSTART;TZID=Europe/Berlin:20280919T170000
DTEND;TZID=Europe/Berlin:20280919T190000
DTSTAMP:20260425T161304
CREATED:20250912T142400Z
LAST-MODIFIED:20250912T142400Z
UID:10001463-1852995600-1853002800@igg-online.de
SUMMARY:Mädchentreff
DESCRIPTION:Die Veranstaltung wird von den Schwestern J.A. & Ha. geleitet.
URL:https://igg-online.de/veranstaltung/maedchentreff/2028-09-19/
LOCATION:Islamische Gemeinde Giessen e.V.\, Udersbergstraße 92 - 94\, Gießen\, 35394
END:VEVENT
BEGIN:VEVENT
DTSTART;TZID=Europe/Berlin:20280921T200000
DTEND;TZID=Europe/Berlin:20280921T210000
DTSTAMP:20260425T161304
CREATED:20250912T090411Z
LAST-MODIFIED:20250912T140455Z
UID:10000158-1853179200-1853182800@igg-online.de
SUMMARY:Wöchentliche Rezitation des Heiligen Koran
DESCRIPTION:Die Veranstaltung findet online (über Zoom) statt und wird von den Brüdern R.S. & M.S. geleitet.
URL:https://igg-online.de/veranstaltung/woechentliche-rezitation-des-heiligen-koran/2028-09-21/
LOCATION:
END:VEVENT
BEGIN:VEVENT
DTSTART;TZID=Europe/Berlin:20280923T093000
DTEND;TZID=Europe/Berlin:20280923T110000
DTSTAMP:20260425T161304
CREATED:20250912T092137Z
LAST-MODIFIED:20250912T140631Z
UID:10000420-1853314200-1853319600@igg-online.de
SUMMARY:Koranunterricht für Frauen und Mädchen
DESCRIPTION:Die Veranstaltung wird von den Schwestern D.J. & D.J. geleitet.
URL:https://igg-online.de/veranstaltung/koranunterricht-fuer-frauen-und-maedchen/2028-09-23/
LOCATION:IGG Haus 92\, Udersbergstraße 92\, Gießen\, 35394
END:VEVENT
BEGIN:VEVENT
DTSTART;TZID=Europe/Berlin:20280923T100000
DTEND;TZID=Europe/Berlin:20280923T120000
DTSTAMP:20260425T161304
CREATED:20251218T195835Z
LAST-MODIFIED:20251218T195835Z
UID:10002606-1853316000-1853323200@igg-online.de
SUMMARY:Koranschule: Kinder im Alter von 6 bis 11 Jahren
DESCRIPTION:Unterrichtszeiten und Altersgruppen\n\nSamstag\, 10:00–12:00 Uhr: Kinder im Alter von 6 bis 11 Jahren\n\nUnterrichtsinhalte\n\nKoranrezitation (Tadschwīd) und korrekte Aussprache\nAuswendiglernen ausgewählter Suren entsprechend der Altersstufe\nVermittlung der täglichen Bittgebete und Adhkār\nFörderung islamischer Werte wie Respekt\, Verantwortung und Gemeinschaftssinn\nPädagogisch begleitete\, altersgerechte Freizeitaktivitäten\n\nKosten\nDer monatliche Beitrag beträgt 20\,00 € pro Kind. \nKontakt und Anmeldung\nFür Rückfragen sowie zur Anmeldung wenden Sie sich bitte an: \nBruder Abou Ouael Telefon: +49 176 70067004 \nKoranschule – Anmeldeformular
URL:https://igg-online.de/veranstaltung/koranschule-kinder-im-alter-von-6-bis-11-jahren/2028-09-23/
LOCATION:IGG Haus 94\, Udersbergstraße 94\, Gießen\, Hessen\, 35394\, Germany
END:VEVENT
BEGIN:VEVENT
DTSTART;TZID=Europe/Berlin:20280923T120000
DTEND;TZID=Europe/Berlin:20280923T143000
DTSTAMP:20260425T161304
CREATED:20251218T200227Z
LAST-MODIFIED:20251218T200227Z
UID:10002867-1853323200-1853332200@igg-online.de
SUMMARY:Koranschule: Kinder und Jugendliche ab 12 Jahren
DESCRIPTION:Unterrichtszeiten und Altersgruppen\n\nSamstag\, 12:00–14:30 Uhr: Kinder und Jugendliche ab 12 Jahren\n\nUnterrichtsinhalte\n\nKoranrezitation (Tadschwīd) und korrekte Aussprache\nAuswendiglernen ausgewählter Suren entsprechend der Altersstufe\nVermittlung der täglichen Bittgebete und Adhkār\nFörderung islamischer Werte wie Respekt\, Verantwortung und Gemeinschaftssinn\nPädagogisch begleitete\, altersgerechte Freizeitaktivitäten\n\nKosten\nDer monatliche Beitrag beträgt 20\,00 € pro Kind. \nKontakt und Anmeldung\nFür Rückfragen sowie zur Anmeldung wenden Sie sich bitte an: \nBruder Abou Ouael Telefon: +49 176 70067004 \nKoranschule – Anmeldeformular
URL:https://igg-online.de/veranstaltung/koranschule-kinder-und-jugendliche-ab-12-jahren/2028-09-23/
LOCATION:IGG Haus 94\, Udersbergstraße 94\, Gießen\, Hessen\, 35394\, Germany
END:VEVENT
BEGIN:VEVENT
DTSTART;TZID=Europe/Berlin:20280923T170000
DTEND;TZID=Europe/Berlin:20280923T180000
DTSTAMP:20260425T161304
CREATED:20250912T103634Z
LAST-MODIFIED:20250912T140657Z
UID:10000681-1853341200-1853344800@igg-online.de
SUMMARY:Fiqh - Unterricht für Frauen\, Mädchen und eventuell Jungs
DESCRIPTION:Die  Veranstaltung  wird vom Cheikh Hammad geleitet.
URL:https://igg-online.de/veranstaltung/fiqh-unterricht-fuer-frauen-maedchen-und-eventuell-jungs/2028-09-23/
LOCATION:IGG Haus 92\, Udersbergstraße 92\, Gießen\, 35394
END:VEVENT
BEGIN:VEVENT
DTSTART;TZID=Europe/Berlin:20280923T180000
DTEND;TZID=Europe/Berlin:20280923T200000
DTSTAMP:20260425T161304
CREATED:20250912T141534Z
LAST-MODIFIED:20250912T141534Z
UID:10000942-1853344800-1853352000@igg-online.de
SUMMARY:Jungendtreff
DESCRIPTION:Die Veranstaltung wird vom Bruder J.C. geleitet.
URL:https://igg-online.de/veranstaltung/jungendtreff/2028-09-23/
LOCATION:IGG Haus 94\, Udersbergstraße 94\, Gießen\, Hessen\, 35394\, Germany
END:VEVENT
BEGIN:VEVENT
DTSTART;TZID=Europe/Berlin:20280924T100000
DTEND;TZID=Europe/Berlin:20280924T140000
DTSTAMP:20260425T161304
CREATED:20250912T141834Z
LAST-MODIFIED:20250912T141834Z
UID:10001203-1853402400-1853416800@igg-online.de
SUMMARY:Kinder Club
DESCRIPTION:Die Arabische Schule wird vom Bruder A.A. geleitet.
URL:https://igg-online.de/veranstaltung/kinder-club/2028-09-24/
LOCATION:Islamische Gemeinde Giessen e.V.\, Udersbergstraße 92 - 94\, Gießen\, 35394
END:VEVENT
BEGIN:VEVENT
DTSTART;TZID=Europe/Berlin:20280924T160000
DTEND;TZID=Europe/Berlin:20280924T170000
DTSTAMP:20260425T161304
CREATED:20251103T133339Z
LAST-MODIFIED:20251103T133339Z
UID:10002272-1853424000-1853427600@igg-online.de
SUMMARY:Arabische Kalligrafie
DESCRIPTION:
URL:https://igg-online.de/veranstaltung/arabische-kalligrafie/2028-09-24/
LOCATION:IGG Haus 94\, Udersbergstraße 94\, Gießen\, Hessen\, 35394\, Germany
ATTACH;FMTTYPE=image/jpeg:https://igg-online.de/wp-content/uploads/2025/11/arabische-kalligrafie.jpeg
END:VEVENT
BEGIN:VEVENT
DTSTART;TZID=Europe/Berlin:20280924T173000
DTEND;TZID=Europe/Berlin:20280924T193000
DTSTAMP:20260425T161304
CREATED:20251103T132850Z
LAST-MODIFIED:20251103T132850Z
UID:10002066-1853429400-1853436600@igg-online.de
SUMMARY:Nasheed Chor für Frauen
DESCRIPTION:
URL:https://igg-online.de/veranstaltung/nasheed-chor-fuer-frauen/2028-09-24/
LOCATION:IGG Haus 92\, Udersbergstraße 92\, Gießen\, 35394
ATTACH;FMTTYPE=image/jpeg:https://igg-online.de/wp-content/uploads/2025/11/nascheed-Chor.jpeg
END:VEVENT
BEGIN:VEVENT
DTSTART;TZID=Europe/Berlin:20280925T180000
DTEND;TZID=Europe/Berlin:20280925T193000
DTSTAMP:20260425T161304
CREATED:20250912T143331Z
LAST-MODIFIED:20250912T143331Z
UID:10001725-1853517600-1853523000@igg-online.de
SUMMARY:Koran-Sitzung (Männer)
DESCRIPTION:Die Koran-Sitzung findet eine Stunde vor dem Maghrib-Gebet statt.\nDie  Sitzung wird vom Cheikh Hammad geleitet.
URL:https://igg-online.de/veranstaltung/koran-sitzung-maenner/2028-09-25/
LOCATION:IGG Haus 94\, Udersbergstraße 94\, Gießen\, Hessen\, 35394\, Germany
END:VEVENT
BEGIN:VEVENT
DTSTART;TZID=Europe/Berlin:20280926T170000
DTEND;TZID=Europe/Berlin:20280926T190000
DTSTAMP:20260425T161304
CREATED:20250912T142400Z
LAST-MODIFIED:20250912T142400Z
UID:10001464-1853600400-1853607600@igg-online.de
SUMMARY:Mädchentreff
DESCRIPTION:Die Veranstaltung wird von den Schwestern J.A. & Ha. geleitet.
URL:https://igg-online.de/veranstaltung/maedchentreff/2028-09-26/
LOCATION:Islamische Gemeinde Giessen e.V.\, Udersbergstraße 92 - 94\, Gießen\, 35394
END:VEVENT
BEGIN:VEVENT
DTSTART;TZID=Europe/Berlin:20280928T200000
DTEND;TZID=Europe/Berlin:20280928T210000
DTSTAMP:20260425T161304
CREATED:20250912T090411Z
LAST-MODIFIED:20250912T140455Z
UID:10000159-1853784000-1853787600@igg-online.de
SUMMARY:Wöchentliche Rezitation des Heiligen Koran
DESCRIPTION:Die Veranstaltung findet online (über Zoom) statt und wird von den Brüdern R.S. & M.S. geleitet.
URL:https://igg-online.de/veranstaltung/woechentliche-rezitation-des-heiligen-koran/2028-09-28/
LOCATION:
END:VEVENT
BEGIN:VEVENT
DTSTART;TZID=Europe/Berlin:20280930T093000
DTEND;TZID=Europe/Berlin:20280930T110000
DTSTAMP:20260425T161304
CREATED:20250912T092137Z
LAST-MODIFIED:20250912T140631Z
UID:10000421-1853919000-1853924400@igg-online.de
SUMMARY:Koranunterricht für Frauen und Mädchen
DESCRIPTION:Die Veranstaltung wird von den Schwestern D.J. & D.J. geleitet.
URL:https://igg-online.de/veranstaltung/koranunterricht-fuer-frauen-und-maedchen/2028-09-30/
LOCATION:IGG Haus 92\, Udersbergstraße 92\, Gießen\, 35394
END:VEVENT
BEGIN:VEVENT
DTSTART;TZID=Europe/Berlin:20280930T100000
DTEND;TZID=Europe/Berlin:20280930T120000
DTSTAMP:20260425T161304
CREATED:20251218T195835Z
LAST-MODIFIED:20251218T195835Z
UID:10002607-1853920800-1853928000@igg-online.de
SUMMARY:Koranschule: Kinder im Alter von 6 bis 11 Jahren
DESCRIPTION:Unterrichtszeiten und Altersgruppen\n\nSamstag\, 10:00–12:00 Uhr: Kinder im Alter von 6 bis 11 Jahren\n\nUnterrichtsinhalte\n\nKoranrezitation (Tadschwīd) und korrekte Aussprache\nAuswendiglernen ausgewählter Suren entsprechend der Altersstufe\nVermittlung der täglichen Bittgebete und Adhkār\nFörderung islamischer Werte wie Respekt\, Verantwortung und Gemeinschaftssinn\nPädagogisch begleitete\, altersgerechte Freizeitaktivitäten\n\nKosten\nDer monatliche Beitrag beträgt 20\,00 € pro Kind. \nKontakt und Anmeldung\nFür Rückfragen sowie zur Anmeldung wenden Sie sich bitte an: \nBruder Abou Ouael Telefon: +49 176 70067004 \nKoranschule – Anmeldeformular
URL:https://igg-online.de/veranstaltung/koranschule-kinder-im-alter-von-6-bis-11-jahren/2028-09-30/
LOCATION:IGG Haus 94\, Udersbergstraße 94\, Gießen\, Hessen\, 35394\, Germany
END:VEVENT
BEGIN:VEVENT
DTSTART;TZID=Europe/Berlin:20280930T120000
DTEND;TZID=Europe/Berlin:20280930T143000
DTSTAMP:20260425T161304
CREATED:20251218T200227Z
LAST-MODIFIED:20251218T200227Z
UID:10002868-1853928000-1853937000@igg-online.de
SUMMARY:Koranschule: Kinder und Jugendliche ab 12 Jahren
DESCRIPTION:Unterrichtszeiten und Altersgruppen\n\nSamstag\, 12:00–14:30 Uhr: Kinder und Jugendliche ab 12 Jahren\n\nUnterrichtsinhalte\n\nKoranrezitation (Tadschwīd) und korrekte Aussprache\nAuswendiglernen ausgewählter Suren entsprechend der Altersstufe\nVermittlung der täglichen Bittgebete und Adhkār\nFörderung islamischer Werte wie Respekt\, Verantwortung und Gemeinschaftssinn\nPädagogisch begleitete\, altersgerechte Freizeitaktivitäten\n\nKosten\nDer monatliche Beitrag beträgt 20\,00 € pro Kind. \nKontakt und Anmeldung\nFür Rückfragen sowie zur Anmeldung wenden Sie sich bitte an: \nBruder Abou Ouael Telefon: +49 176 70067004 \nKoranschule – Anmeldeformular
URL:https://igg-online.de/veranstaltung/koranschule-kinder-und-jugendliche-ab-12-jahren/2028-09-30/
LOCATION:IGG Haus 94\, Udersbergstraße 94\, Gießen\, Hessen\, 35394\, Germany
END:VEVENT
BEGIN:VEVENT
DTSTART;TZID=Europe/Berlin:20280930T170000
DTEND;TZID=Europe/Berlin:20280930T180000
DTSTAMP:20260425T161304
CREATED:20250912T103634Z
LAST-MODIFIED:20250912T140657Z
UID:10000682-1853946000-1853949600@igg-online.de
SUMMARY:Fiqh - Unterricht für Frauen\, Mädchen und eventuell Jungs
DESCRIPTION:Die  Veranstaltung  wird vom Cheikh Hammad geleitet.
URL:https://igg-online.de/veranstaltung/fiqh-unterricht-fuer-frauen-maedchen-und-eventuell-jungs/2028-09-30/
LOCATION:IGG Haus 92\, Udersbergstraße 92\, Gießen\, 35394
END:VEVENT
BEGIN:VEVENT
DTSTART;TZID=Europe/Berlin:20280930T180000
DTEND;TZID=Europe/Berlin:20280930T200000
DTSTAMP:20260425T161304
CREATED:20250912T141534Z
LAST-MODIFIED:20250912T141534Z
UID:10000943-1853949600-1853956800@igg-online.de
SUMMARY:Jungendtreff
DESCRIPTION:Die Veranstaltung wird vom Bruder J.C. geleitet.
URL:https://igg-online.de/veranstaltung/jungendtreff/2028-09-30/
LOCATION:IGG Haus 94\, Udersbergstraße 94\, Gießen\, Hessen\, 35394\, Germany
END:VEVENT
END:VCALENDAR