BEGIN:VCALENDAR
VERSION:2.0
PRODID:-//Islamische Gemeinde Giessen e.V. - ECPv6.15.20//NONSGML v1.0//EN
CALSCALE:GREGORIAN
METHOD:PUBLISH
X-ORIGINAL-URL:https://igg-online.de
X-WR-CALDESC:Veranstaltungen für Islamische Gemeinde Giessen e.V.
REFRESH-INTERVAL;VALUE=DURATION:PT1H
X-Robots-Tag:noindex
X-PUBLISHED-TTL:PT1H
BEGIN:VTIMEZONE
TZID:Europe/Berlin
BEGIN:DAYLIGHT
TZOFFSETFROM:+0100
TZOFFSETTO:+0200
TZNAME:CEST
DTSTART:20280326T010000
END:DAYLIGHT
BEGIN:STANDARD
TZOFFSETFROM:+0200
TZOFFSETTO:+0100
TZNAME:CET
DTSTART:20281029T010000
END:STANDARD
BEGIN:DAYLIGHT
TZOFFSETFROM:+0100
TZOFFSETTO:+0200
TZNAME:CEST
DTSTART:20290325T010000
END:DAYLIGHT
BEGIN:STANDARD
TZOFFSETFROM:+0200
TZOFFSETTO:+0100
TZNAME:CET
DTSTART:20291028T010000
END:STANDARD
BEGIN:DAYLIGHT
TZOFFSETFROM:+0100
TZOFFSETTO:+0200
TZNAME:CEST
DTSTART:20300331T010000
END:DAYLIGHT
BEGIN:STANDARD
TZOFFSETFROM:+0200
TZOFFSETTO:+0100
TZNAME:CET
DTSTART:20301027T010000
END:STANDARD
END:VTIMEZONE
BEGIN:VEVENT
DTSTART;TZID=Europe/Berlin:20290102T170000
DTEND;TZID=Europe/Berlin:20290102T190000
DTSTAMP:20260426T021009
CREATED:20250912T142400Z
LAST-MODIFIED:20250912T142400Z
UID:10001478-1862067600-1862074800@igg-online.de
SUMMARY:Mädchentreff
DESCRIPTION:Die Veranstaltung wird von den Schwestern J.A. & Ha. geleitet.
URL:https://igg-online.de/veranstaltung/maedchentreff/2029-01-02/
LOCATION:Islamische Gemeinde Giessen e.V.\, Udersbergstraße 92 - 94\, Gießen\, 35394
END:VEVENT
BEGIN:VEVENT
DTSTART;TZID=Europe/Berlin:20290104T200000
DTEND;TZID=Europe/Berlin:20290104T210000
DTSTAMP:20260426T021010
CREATED:20250912T090411Z
LAST-MODIFIED:20250912T140455Z
UID:10000173-1862251200-1862254800@igg-online.de
SUMMARY:Wöchentliche Rezitation des Heiligen Koran
DESCRIPTION:Die Veranstaltung findet online (über Zoom) statt und wird von den Brüdern R.S. & M.S. geleitet.
URL:https://igg-online.de/veranstaltung/woechentliche-rezitation-des-heiligen-koran/2029-01-04/
LOCATION:
END:VEVENT
BEGIN:VEVENT
DTSTART;TZID=Europe/Berlin:20290106T093000
DTEND;TZID=Europe/Berlin:20290106T110000
DTSTAMP:20260426T021010
CREATED:20250912T092137Z
LAST-MODIFIED:20250912T140631Z
UID:10000435-1862386200-1862391600@igg-online.de
SUMMARY:Koranunterricht für Frauen und Mädchen
DESCRIPTION:Die Veranstaltung wird von den Schwestern D.J. & D.J. geleitet.
URL:https://igg-online.de/veranstaltung/koranunterricht-fuer-frauen-und-maedchen/2029-01-06/
LOCATION:IGG Haus 92\, Udersbergstraße 92\, Gießen\, 35394
END:VEVENT
BEGIN:VEVENT
DTSTART;TZID=Europe/Berlin:20290106T100000
DTEND;TZID=Europe/Berlin:20290106T120000
DTSTAMP:20260426T021010
CREATED:20251218T195835Z
LAST-MODIFIED:20251218T195835Z
UID:10002621-1862388000-1862395200@igg-online.de
SUMMARY:Koranschule: Kinder im Alter von 6 bis 11 Jahren
DESCRIPTION:Unterrichtszeiten und Altersgruppen\n\nSamstag\, 10:00–12:00 Uhr: Kinder im Alter von 6 bis 11 Jahren\n\nUnterrichtsinhalte\n\nKoranrezitation (Tadschwīd) und korrekte Aussprache\nAuswendiglernen ausgewählter Suren entsprechend der Altersstufe\nVermittlung der täglichen Bittgebete und Adhkār\nFörderung islamischer Werte wie Respekt\, Verantwortung und Gemeinschaftssinn\nPädagogisch begleitete\, altersgerechte Freizeitaktivitäten\n\nKosten\nDer monatliche Beitrag beträgt 20\,00 € pro Kind. \nKontakt und Anmeldung\nFür Rückfragen sowie zur Anmeldung wenden Sie sich bitte an: \nBruder Abou Ouael Telefon: +49 176 70067004 \nKoranschule – Anmeldeformular
URL:https://igg-online.de/veranstaltung/koranschule-kinder-im-alter-von-6-bis-11-jahren/2029-01-06/
LOCATION:IGG Haus 94\, Udersbergstraße 94\, Gießen\, Hessen\, 35394\, Germany
END:VEVENT
BEGIN:VEVENT
DTSTART;TZID=Europe/Berlin:20290106T120000
DTEND;TZID=Europe/Berlin:20290106T143000
DTSTAMP:20260426T021010
CREATED:20251218T200227Z
LAST-MODIFIED:20251218T200227Z
UID:10002882-1862395200-1862404200@igg-online.de
SUMMARY:Koranschule: Kinder und Jugendliche ab 12 Jahren
DESCRIPTION:Unterrichtszeiten und Altersgruppen\n\nSamstag\, 12:00–14:30 Uhr: Kinder und Jugendliche ab 12 Jahren\n\nUnterrichtsinhalte\n\nKoranrezitation (Tadschwīd) und korrekte Aussprache\nAuswendiglernen ausgewählter Suren entsprechend der Altersstufe\nVermittlung der täglichen Bittgebete und Adhkār\nFörderung islamischer Werte wie Respekt\, Verantwortung und Gemeinschaftssinn\nPädagogisch begleitete\, altersgerechte Freizeitaktivitäten\n\nKosten\nDer monatliche Beitrag beträgt 20\,00 € pro Kind. \nKontakt und Anmeldung\nFür Rückfragen sowie zur Anmeldung wenden Sie sich bitte an: \nBruder Abou Ouael Telefon: +49 176 70067004 \nKoranschule – Anmeldeformular
URL:https://igg-online.de/veranstaltung/koranschule-kinder-und-jugendliche-ab-12-jahren/2029-01-06/
LOCATION:IGG Haus 94\, Udersbergstraße 94\, Gießen\, Hessen\, 35394\, Germany
END:VEVENT
BEGIN:VEVENT
DTSTART;TZID=Europe/Berlin:20290106T170000
DTEND;TZID=Europe/Berlin:20290106T180000
DTSTAMP:20260426T021010
CREATED:20250912T103634Z
LAST-MODIFIED:20250912T140657Z
UID:10000696-1862413200-1862416800@igg-online.de
SUMMARY:Fiqh - Unterricht für Frauen\, Mädchen und eventuell Jungs
DESCRIPTION:Die  Veranstaltung  wird vom Cheikh Hammad geleitet.
URL:https://igg-online.de/veranstaltung/fiqh-unterricht-fuer-frauen-maedchen-und-eventuell-jungs/2029-01-06/
LOCATION:IGG Haus 92\, Udersbergstraße 92\, Gießen\, 35394
END:VEVENT
BEGIN:VEVENT
DTSTART;TZID=Europe/Berlin:20290106T180000
DTEND;TZID=Europe/Berlin:20290106T200000
DTSTAMP:20260426T021010
CREATED:20250912T141534Z
LAST-MODIFIED:20250912T141534Z
UID:10000957-1862416800-1862424000@igg-online.de
SUMMARY:Jungendtreff
DESCRIPTION:Die Veranstaltung wird vom Bruder J.C. geleitet.
URL:https://igg-online.de/veranstaltung/jungendtreff/2029-01-06/
LOCATION:IGG Haus 94\, Udersbergstraße 94\, Gießen\, Hessen\, 35394\, Germany
END:VEVENT
BEGIN:VEVENT
DTSTART;TZID=Europe/Berlin:20290107T100000
DTEND;TZID=Europe/Berlin:20290107T140000
DTSTAMP:20260426T021010
CREATED:20250912T141834Z
LAST-MODIFIED:20250912T141834Z
UID:10001218-1862474400-1862488800@igg-online.de
SUMMARY:Kinder Club
DESCRIPTION:Die Arabische Schule wird vom Bruder A.A. geleitet.
URL:https://igg-online.de/veranstaltung/kinder-club/2029-01-07/
LOCATION:Islamische Gemeinde Giessen e.V.\, Udersbergstraße 92 - 94\, Gießen\, 35394
END:VEVENT
BEGIN:VEVENT
DTSTART;TZID=Europe/Berlin:20290107T160000
DTEND;TZID=Europe/Berlin:20290107T170000
DTSTAMP:20260426T021010
CREATED:20251103T133339Z
LAST-MODIFIED:20251103T133339Z
UID:10002287-1862496000-1862499600@igg-online.de
SUMMARY:Arabische Kalligrafie
DESCRIPTION:
URL:https://igg-online.de/veranstaltung/arabische-kalligrafie/2029-01-07/
LOCATION:IGG Haus 94\, Udersbergstraße 94\, Gießen\, Hessen\, 35394\, Germany
ATTACH;FMTTYPE=image/jpeg:https://igg-online.de/wp-content/uploads/2025/11/arabische-kalligrafie.jpeg
END:VEVENT
BEGIN:VEVENT
DTSTART;TZID=Europe/Berlin:20290108T180000
DTEND;TZID=Europe/Berlin:20290108T193000
DTSTAMP:20260426T021010
CREATED:20250912T143331Z
LAST-MODIFIED:20250912T143331Z
UID:10001740-1862589600-1862595000@igg-online.de
SUMMARY:Koran-Sitzung (Männer)
DESCRIPTION:Die Koran-Sitzung findet eine Stunde vor dem Maghrib-Gebet statt.\nDie  Sitzung wird vom Cheikh Hammad geleitet.
URL:https://igg-online.de/veranstaltung/koran-sitzung-maenner/2029-01-08/
LOCATION:IGG Haus 94\, Udersbergstraße 94\, Gießen\, Hessen\, 35394\, Germany
END:VEVENT
BEGIN:VEVENT
DTSTART;TZID=Europe/Berlin:20290109T170000
DTEND;TZID=Europe/Berlin:20290109T190000
DTSTAMP:20260426T021010
CREATED:20250912T142400Z
LAST-MODIFIED:20250912T142400Z
UID:10001479-1862672400-1862679600@igg-online.de
SUMMARY:Mädchentreff
DESCRIPTION:Die Veranstaltung wird von den Schwestern J.A. & Ha. geleitet.
URL:https://igg-online.de/veranstaltung/maedchentreff/2029-01-09/
LOCATION:Islamische Gemeinde Giessen e.V.\, Udersbergstraße 92 - 94\, Gießen\, 35394
END:VEVENT
BEGIN:VEVENT
DTSTART;TZID=Europe/Berlin:20290111T200000
DTEND;TZID=Europe/Berlin:20290111T210000
DTSTAMP:20260426T021010
CREATED:20250912T090411Z
LAST-MODIFIED:20250912T140455Z
UID:10000174-1862856000-1862859600@igg-online.de
SUMMARY:Wöchentliche Rezitation des Heiligen Koran
DESCRIPTION:Die Veranstaltung findet online (über Zoom) statt und wird von den Brüdern R.S. & M.S. geleitet.
URL:https://igg-online.de/veranstaltung/woechentliche-rezitation-des-heiligen-koran/2029-01-11/
LOCATION:
END:VEVENT
BEGIN:VEVENT
DTSTART;TZID=Europe/Berlin:20290113T093000
DTEND;TZID=Europe/Berlin:20290113T110000
DTSTAMP:20260426T021010
CREATED:20250912T092137Z
LAST-MODIFIED:20250912T140631Z
UID:10000436-1862991000-1862996400@igg-online.de
SUMMARY:Koranunterricht für Frauen und Mädchen
DESCRIPTION:Die Veranstaltung wird von den Schwestern D.J. & D.J. geleitet.
URL:https://igg-online.de/veranstaltung/koranunterricht-fuer-frauen-und-maedchen/2029-01-13/
LOCATION:IGG Haus 92\, Udersbergstraße 92\, Gießen\, 35394
END:VEVENT
BEGIN:VEVENT
DTSTART;TZID=Europe/Berlin:20290113T100000
DTEND;TZID=Europe/Berlin:20290113T120000
DTSTAMP:20260426T021010
CREATED:20251218T195835Z
LAST-MODIFIED:20251218T195835Z
UID:10002622-1862992800-1863000000@igg-online.de
SUMMARY:Koranschule: Kinder im Alter von 6 bis 11 Jahren
DESCRIPTION:Unterrichtszeiten und Altersgruppen\n\nSamstag\, 10:00–12:00 Uhr: Kinder im Alter von 6 bis 11 Jahren\n\nUnterrichtsinhalte\n\nKoranrezitation (Tadschwīd) und korrekte Aussprache\nAuswendiglernen ausgewählter Suren entsprechend der Altersstufe\nVermittlung der täglichen Bittgebete und Adhkār\nFörderung islamischer Werte wie Respekt\, Verantwortung und Gemeinschaftssinn\nPädagogisch begleitete\, altersgerechte Freizeitaktivitäten\n\nKosten\nDer monatliche Beitrag beträgt 20\,00 € pro Kind. \nKontakt und Anmeldung\nFür Rückfragen sowie zur Anmeldung wenden Sie sich bitte an: \nBruder Abou Ouael Telefon: +49 176 70067004 \nKoranschule – Anmeldeformular
URL:https://igg-online.de/veranstaltung/koranschule-kinder-im-alter-von-6-bis-11-jahren/2029-01-13/
LOCATION:IGG Haus 94\, Udersbergstraße 94\, Gießen\, Hessen\, 35394\, Germany
END:VEVENT
BEGIN:VEVENT
DTSTART;TZID=Europe/Berlin:20290113T120000
DTEND;TZID=Europe/Berlin:20290113T143000
DTSTAMP:20260426T021010
CREATED:20251218T200227Z
LAST-MODIFIED:20251218T200227Z
UID:10002883-1863000000-1863009000@igg-online.de
SUMMARY:Koranschule: Kinder und Jugendliche ab 12 Jahren
DESCRIPTION:Unterrichtszeiten und Altersgruppen\n\nSamstag\, 12:00–14:30 Uhr: Kinder und Jugendliche ab 12 Jahren\n\nUnterrichtsinhalte\n\nKoranrezitation (Tadschwīd) und korrekte Aussprache\nAuswendiglernen ausgewählter Suren entsprechend der Altersstufe\nVermittlung der täglichen Bittgebete und Adhkār\nFörderung islamischer Werte wie Respekt\, Verantwortung und Gemeinschaftssinn\nPädagogisch begleitete\, altersgerechte Freizeitaktivitäten\n\nKosten\nDer monatliche Beitrag beträgt 20\,00 € pro Kind. \nKontakt und Anmeldung\nFür Rückfragen sowie zur Anmeldung wenden Sie sich bitte an: \nBruder Abou Ouael Telefon: +49 176 70067004 \nKoranschule – Anmeldeformular
URL:https://igg-online.de/veranstaltung/koranschule-kinder-und-jugendliche-ab-12-jahren/2029-01-13/
LOCATION:IGG Haus 94\, Udersbergstraße 94\, Gießen\, Hessen\, 35394\, Germany
END:VEVENT
BEGIN:VEVENT
DTSTART;TZID=Europe/Berlin:20290113T170000
DTEND;TZID=Europe/Berlin:20290113T180000
DTSTAMP:20260426T021010
CREATED:20250912T103634Z
LAST-MODIFIED:20250912T140657Z
UID:10000697-1863018000-1863021600@igg-online.de
SUMMARY:Fiqh - Unterricht für Frauen\, Mädchen und eventuell Jungs
DESCRIPTION:Die  Veranstaltung  wird vom Cheikh Hammad geleitet.
URL:https://igg-online.de/veranstaltung/fiqh-unterricht-fuer-frauen-maedchen-und-eventuell-jungs/2029-01-13/
LOCATION:IGG Haus 92\, Udersbergstraße 92\, Gießen\, 35394
END:VEVENT
BEGIN:VEVENT
DTSTART;TZID=Europe/Berlin:20290113T180000
DTEND;TZID=Europe/Berlin:20290113T200000
DTSTAMP:20260426T021010
CREATED:20250912T141534Z
LAST-MODIFIED:20250912T141534Z
UID:10000958-1863021600-1863028800@igg-online.de
SUMMARY:Jungendtreff
DESCRIPTION:Die Veranstaltung wird vom Bruder J.C. geleitet.
URL:https://igg-online.de/veranstaltung/jungendtreff/2029-01-13/
LOCATION:IGG Haus 94\, Udersbergstraße 94\, Gießen\, Hessen\, 35394\, Germany
END:VEVENT
BEGIN:VEVENT
DTSTART;TZID=Europe/Berlin:20290114T100000
DTEND;TZID=Europe/Berlin:20290114T140000
DTSTAMP:20260426T021010
CREATED:20250912T141834Z
LAST-MODIFIED:20250912T141834Z
UID:10001219-1863079200-1863093600@igg-online.de
SUMMARY:Kinder Club
DESCRIPTION:Die Arabische Schule wird vom Bruder A.A. geleitet.
URL:https://igg-online.de/veranstaltung/kinder-club/2029-01-14/
LOCATION:Islamische Gemeinde Giessen e.V.\, Udersbergstraße 92 - 94\, Gießen\, 35394
END:VEVENT
BEGIN:VEVENT
DTSTART;TZID=Europe/Berlin:20290114T160000
DTEND;TZID=Europe/Berlin:20290114T170000
DTSTAMP:20260426T021010
CREATED:20251103T133339Z
LAST-MODIFIED:20251103T133339Z
UID:10002288-1863100800-1863104400@igg-online.de
SUMMARY:Arabische Kalligrafie
DESCRIPTION:
URL:https://igg-online.de/veranstaltung/arabische-kalligrafie/2029-01-14/
LOCATION:IGG Haus 94\, Udersbergstraße 94\, Gießen\, Hessen\, 35394\, Germany
ATTACH;FMTTYPE=image/jpeg:https://igg-online.de/wp-content/uploads/2025/11/arabische-kalligrafie.jpeg
END:VEVENT
BEGIN:VEVENT
DTSTART;TZID=Europe/Berlin:20290114T173000
DTEND;TZID=Europe/Berlin:20290114T193000
DTSTAMP:20260426T021010
CREATED:20251103T132850Z
LAST-MODIFIED:20251103T132850Z
UID:10002074-1863106200-1863113400@igg-online.de
SUMMARY:Nasheed Chor für Frauen
DESCRIPTION:
URL:https://igg-online.de/veranstaltung/nasheed-chor-fuer-frauen/2029-01-14/
LOCATION:IGG Haus 92\, Udersbergstraße 92\, Gießen\, 35394
ATTACH;FMTTYPE=image/jpeg:https://igg-online.de/wp-content/uploads/2025/11/nascheed-Chor.jpeg
END:VEVENT
BEGIN:VEVENT
DTSTART;TZID=Europe/Berlin:20290115T180000
DTEND;TZID=Europe/Berlin:20290115T193000
DTSTAMP:20260426T021010
CREATED:20250912T143331Z
LAST-MODIFIED:20250912T143331Z
UID:10001741-1863194400-1863199800@igg-online.de
SUMMARY:Koran-Sitzung (Männer)
DESCRIPTION:Die Koran-Sitzung findet eine Stunde vor dem Maghrib-Gebet statt.\nDie  Sitzung wird vom Cheikh Hammad geleitet.
URL:https://igg-online.de/veranstaltung/koran-sitzung-maenner/2029-01-15/
LOCATION:IGG Haus 94\, Udersbergstraße 94\, Gießen\, Hessen\, 35394\, Germany
END:VEVENT
BEGIN:VEVENT
DTSTART;TZID=Europe/Berlin:20290116T170000
DTEND;TZID=Europe/Berlin:20290116T190000
DTSTAMP:20260426T021010
CREATED:20250912T142400Z
LAST-MODIFIED:20250912T142400Z
UID:10001480-1863277200-1863284400@igg-online.de
SUMMARY:Mädchentreff
DESCRIPTION:Die Veranstaltung wird von den Schwestern J.A. & Ha. geleitet.
URL:https://igg-online.de/veranstaltung/maedchentreff/2029-01-16/
LOCATION:Islamische Gemeinde Giessen e.V.\, Udersbergstraße 92 - 94\, Gießen\, 35394
END:VEVENT
BEGIN:VEVENT
DTSTART;TZID=Europe/Berlin:20290118T200000
DTEND;TZID=Europe/Berlin:20290118T210000
DTSTAMP:20260426T021010
CREATED:20250912T090411Z
LAST-MODIFIED:20250912T140455Z
UID:10000175-1863460800-1863464400@igg-online.de
SUMMARY:Wöchentliche Rezitation des Heiligen Koran
DESCRIPTION:Die Veranstaltung findet online (über Zoom) statt und wird von den Brüdern R.S. & M.S. geleitet.
URL:https://igg-online.de/veranstaltung/woechentliche-rezitation-des-heiligen-koran/2029-01-18/
LOCATION:
END:VEVENT
BEGIN:VEVENT
DTSTART;TZID=Europe/Berlin:20290120T093000
DTEND;TZID=Europe/Berlin:20290120T110000
DTSTAMP:20260426T021010
CREATED:20250912T092137Z
LAST-MODIFIED:20250912T140631Z
UID:10000437-1863595800-1863601200@igg-online.de
SUMMARY:Koranunterricht für Frauen und Mädchen
DESCRIPTION:Die Veranstaltung wird von den Schwestern D.J. & D.J. geleitet.
URL:https://igg-online.de/veranstaltung/koranunterricht-fuer-frauen-und-maedchen/2029-01-20/
LOCATION:IGG Haus 92\, Udersbergstraße 92\, Gießen\, 35394
END:VEVENT
BEGIN:VEVENT
DTSTART;TZID=Europe/Berlin:20290120T100000
DTEND;TZID=Europe/Berlin:20290120T120000
DTSTAMP:20260426T021010
CREATED:20251218T195835Z
LAST-MODIFIED:20251218T195835Z
UID:10002623-1863597600-1863604800@igg-online.de
SUMMARY:Koranschule: Kinder im Alter von 6 bis 11 Jahren
DESCRIPTION:Unterrichtszeiten und Altersgruppen\n\nSamstag\, 10:00–12:00 Uhr: Kinder im Alter von 6 bis 11 Jahren\n\nUnterrichtsinhalte\n\nKoranrezitation (Tadschwīd) und korrekte Aussprache\nAuswendiglernen ausgewählter Suren entsprechend der Altersstufe\nVermittlung der täglichen Bittgebete und Adhkār\nFörderung islamischer Werte wie Respekt\, Verantwortung und Gemeinschaftssinn\nPädagogisch begleitete\, altersgerechte Freizeitaktivitäten\n\nKosten\nDer monatliche Beitrag beträgt 20\,00 € pro Kind. \nKontakt und Anmeldung\nFür Rückfragen sowie zur Anmeldung wenden Sie sich bitte an: \nBruder Abou Ouael Telefon: +49 176 70067004 \nKoranschule – Anmeldeformular
URL:https://igg-online.de/veranstaltung/koranschule-kinder-im-alter-von-6-bis-11-jahren/2029-01-20/
LOCATION:IGG Haus 94\, Udersbergstraße 94\, Gießen\, Hessen\, 35394\, Germany
END:VEVENT
BEGIN:VEVENT
DTSTART;TZID=Europe/Berlin:20290120T120000
DTEND;TZID=Europe/Berlin:20290120T143000
DTSTAMP:20260426T021010
CREATED:20251218T200227Z
LAST-MODIFIED:20251218T200227Z
UID:10002884-1863604800-1863613800@igg-online.de
SUMMARY:Koranschule: Kinder und Jugendliche ab 12 Jahren
DESCRIPTION:Unterrichtszeiten und Altersgruppen\n\nSamstag\, 12:00–14:30 Uhr: Kinder und Jugendliche ab 12 Jahren\n\nUnterrichtsinhalte\n\nKoranrezitation (Tadschwīd) und korrekte Aussprache\nAuswendiglernen ausgewählter Suren entsprechend der Altersstufe\nVermittlung der täglichen Bittgebete und Adhkār\nFörderung islamischer Werte wie Respekt\, Verantwortung und Gemeinschaftssinn\nPädagogisch begleitete\, altersgerechte Freizeitaktivitäten\n\nKosten\nDer monatliche Beitrag beträgt 20\,00 € pro Kind. \nKontakt und Anmeldung\nFür Rückfragen sowie zur Anmeldung wenden Sie sich bitte an: \nBruder Abou Ouael Telefon: +49 176 70067004 \nKoranschule – Anmeldeformular
URL:https://igg-online.de/veranstaltung/koranschule-kinder-und-jugendliche-ab-12-jahren/2029-01-20/
LOCATION:IGG Haus 94\, Udersbergstraße 94\, Gießen\, Hessen\, 35394\, Germany
END:VEVENT
BEGIN:VEVENT
DTSTART;TZID=Europe/Berlin:20290120T170000
DTEND;TZID=Europe/Berlin:20290120T180000
DTSTAMP:20260426T021010
CREATED:20250912T103634Z
LAST-MODIFIED:20250912T140657Z
UID:10000698-1863622800-1863626400@igg-online.de
SUMMARY:Fiqh - Unterricht für Frauen\, Mädchen und eventuell Jungs
DESCRIPTION:Die  Veranstaltung  wird vom Cheikh Hammad geleitet.
URL:https://igg-online.de/veranstaltung/fiqh-unterricht-fuer-frauen-maedchen-und-eventuell-jungs/2029-01-20/
LOCATION:IGG Haus 92\, Udersbergstraße 92\, Gießen\, 35394
END:VEVENT
BEGIN:VEVENT
DTSTART;TZID=Europe/Berlin:20290120T180000
DTEND;TZID=Europe/Berlin:20290120T200000
DTSTAMP:20260426T021010
CREATED:20250912T141534Z
LAST-MODIFIED:20250912T141534Z
UID:10000959-1863626400-1863633600@igg-online.de
SUMMARY:Jungendtreff
DESCRIPTION:Die Veranstaltung wird vom Bruder J.C. geleitet.
URL:https://igg-online.de/veranstaltung/jungendtreff/2029-01-20/
LOCATION:IGG Haus 94\, Udersbergstraße 94\, Gießen\, Hessen\, 35394\, Germany
END:VEVENT
BEGIN:VEVENT
DTSTART;TZID=Europe/Berlin:20290121T100000
DTEND;TZID=Europe/Berlin:20290121T140000
DTSTAMP:20260426T021010
CREATED:20250912T141834Z
LAST-MODIFIED:20250912T141834Z
UID:10001220-1863684000-1863698400@igg-online.de
SUMMARY:Kinder Club
DESCRIPTION:Die Arabische Schule wird vom Bruder A.A. geleitet.
URL:https://igg-online.de/veranstaltung/kinder-club/2029-01-21/
LOCATION:Islamische Gemeinde Giessen e.V.\, Udersbergstraße 92 - 94\, Gießen\, 35394
END:VEVENT
BEGIN:VEVENT
DTSTART;TZID=Europe/Berlin:20290121T160000
DTEND;TZID=Europe/Berlin:20290121T170000
DTSTAMP:20260426T021010
CREATED:20251103T133339Z
LAST-MODIFIED:20251103T133339Z
UID:10002289-1863705600-1863709200@igg-online.de
SUMMARY:Arabische Kalligrafie
DESCRIPTION:
URL:https://igg-online.de/veranstaltung/arabische-kalligrafie/2029-01-21/
LOCATION:IGG Haus 94\, Udersbergstraße 94\, Gießen\, Hessen\, 35394\, Germany
ATTACH;FMTTYPE=image/jpeg:https://igg-online.de/wp-content/uploads/2025/11/arabische-kalligrafie.jpeg
END:VEVENT
END:VCALENDAR