BEGIN:VCALENDAR
VERSION:2.0
PRODID:-//Islamische Gemeinde Giessen e.V. - ECPv6.15.20//NONSGML v1.0//EN
CALSCALE:GREGORIAN
METHOD:PUBLISH
X-ORIGINAL-URL:https://igg-online.de
X-WR-CALDESC:Veranstaltungen für Islamische Gemeinde Giessen e.V.
REFRESH-INTERVAL;VALUE=DURATION:PT1H
X-Robots-Tag:noindex
X-PUBLISHED-TTL:PT1H
BEGIN:VTIMEZONE
TZID:Europe/Berlin
BEGIN:DAYLIGHT
TZOFFSETFROM:+0100
TZOFFSETTO:+0200
TZNAME:CEST
DTSTART:20250330T010000
END:DAYLIGHT
BEGIN:STANDARD
TZOFFSETFROM:+0200
TZOFFSETTO:+0100
TZNAME:CET
DTSTART:20251026T010000
END:STANDARD
BEGIN:DAYLIGHT
TZOFFSETFROM:+0100
TZOFFSETTO:+0200
TZNAME:CEST
DTSTART:20260329T010000
END:DAYLIGHT
BEGIN:STANDARD
TZOFFSETFROM:+0200
TZOFFSETTO:+0100
TZNAME:CET
DTSTART:20261025T010000
END:STANDARD
BEGIN:DAYLIGHT
TZOFFSETFROM:+0100
TZOFFSETTO:+0200
TZNAME:CEST
DTSTART:20270328T010000
END:DAYLIGHT
BEGIN:STANDARD
TZOFFSETFROM:+0200
TZOFFSETTO:+0100
TZNAME:CET
DTSTART:20271031T010000
END:STANDARD
END:VTIMEZONE
BEGIN:VEVENT
DTSTART;TZID=Europe/Berlin:20260806T200000
DTEND;TZID=Europe/Berlin:20260806T210000
DTSTAMP:20260421T041609
CREATED:20250912T090411Z
LAST-MODIFIED:20250912T140455Z
UID:10000047-1786046400-1786050000@igg-online.de
SUMMARY:Wöchentliche Rezitation des Heiligen Koran
DESCRIPTION:Die Veranstaltung findet online (über Zoom) statt und wird von den Brüdern R.S. & M.S. geleitet.
URL:https://igg-online.de/veranstaltung/woechentliche-rezitation-des-heiligen-koran/2026-08-06/
LOCATION:
END:VEVENT
END:VCALENDAR