BEGIN:VCALENDAR
VERSION:2.0
PRODID:-//Islamische Gemeinde Giessen e.V. - ECPv6.15.20//NONSGML v1.0//EN
CALSCALE:GREGORIAN
METHOD:PUBLISH
X-ORIGINAL-URL:https://igg-online.de
X-WR-CALDESC:Veranstaltungen für Islamische Gemeinde Giessen e.V.
REFRESH-INTERVAL;VALUE=DURATION:PT1H
X-Robots-Tag:noindex
X-PUBLISHED-TTL:PT1H
BEGIN:VTIMEZONE
TZID:Europe/Berlin
BEGIN:DAYLIGHT
TZOFFSETFROM:+0100
TZOFFSETTO:+0200
TZNAME:CEST
DTSTART:20250330T010000
END:DAYLIGHT
BEGIN:STANDARD
TZOFFSETFROM:+0200
TZOFFSETTO:+0100
TZNAME:CET
DTSTART:20251026T010000
END:STANDARD
BEGIN:DAYLIGHT
TZOFFSETFROM:+0100
TZOFFSETTO:+0200
TZNAME:CEST
DTSTART:20260329T010000
END:DAYLIGHT
BEGIN:STANDARD
TZOFFSETFROM:+0200
TZOFFSETTO:+0100
TZNAME:CET
DTSTART:20261025T010000
END:STANDARD
BEGIN:DAYLIGHT
TZOFFSETFROM:+0100
TZOFFSETTO:+0200
TZNAME:CEST
DTSTART:20270328T010000
END:DAYLIGHT
BEGIN:STANDARD
TZOFFSETFROM:+0200
TZOFFSETTO:+0100
TZNAME:CET
DTSTART:20271031T010000
END:STANDARD
END:VTIMEZONE
BEGIN:VEVENT
DTSTART;TZID=Europe/Berlin:20260913T100000
DTEND;TZID=Europe/Berlin:20260913T140000
DTSTAMP:20260421T052004
CREATED:20250912T141834Z
LAST-MODIFIED:20250912T141834Z
UID:10001097-1789293600-1789308000@igg-online.de
SUMMARY:Kinder Club
DESCRIPTION:Die Arabische Schule wird vom Bruder A.A. geleitet.
URL:https://igg-online.de/veranstaltung/kinder-club/2026-09-13/
LOCATION:Islamische Gemeinde Giessen e.V.\, Udersbergstraße 92 - 94\, Gießen\, 35394
END:VEVENT
BEGIN:VEVENT
DTSTART;TZID=Europe/Berlin:20260913T160000
DTEND;TZID=Europe/Berlin:20260913T170000
DTSTAMP:20260421T052004
CREATED:20251103T133339Z
LAST-MODIFIED:20251103T133339Z
UID:10002166-1789315200-1789318800@igg-online.de
SUMMARY:Arabische Kalligrafie
DESCRIPTION:
URL:https://igg-online.de/veranstaltung/arabische-kalligrafie/2026-09-13/
LOCATION:IGG Haus 94\, Udersbergstraße 94\, Gießen\, Hessen\, 35394\, Germany
ATTACH;FMTTYPE=image/jpeg:https://igg-online.de/wp-content/uploads/2025/11/arabische-kalligrafie.jpeg
END:VEVENT
BEGIN:VEVENT
DTSTART;TZID=Europe/Berlin:20260913T173000
DTEND;TZID=Europe/Berlin:20260913T193000
DTSTAMP:20260421T052004
CREATED:20251103T132850Z
LAST-MODIFIED:20251103T132850Z
UID:10002013-1789320600-1789327800@igg-online.de
SUMMARY:Nasheed Chor für Frauen
DESCRIPTION:
URL:https://igg-online.de/veranstaltung/nasheed-chor-fuer-frauen/2026-09-13/
LOCATION:IGG Haus 92\, Udersbergstraße 92\, Gießen\, 35394
ATTACH;FMTTYPE=image/jpeg:https://igg-online.de/wp-content/uploads/2025/11/nascheed-Chor.jpeg
END:VEVENT
END:VCALENDAR